BEGIN:VCALENDAR
VERSION:2.0
PRODID:-//Holy Rosary Parish - ECPv6.15.20//NONSGML v1.0//EN
CALSCALE:GREGORIAN
METHOD:PUBLISH
X-WR-CALNAME:Holy Rosary Parish
X-ORIGINAL-URL:https://holyrosary.ca
X-WR-CALDESC:Events for Holy Rosary Parish
REFRESH-INTERVAL;VALUE=DURATION:PT1H
X-Robots-Tag:noindex
X-PUBLISHED-TTL:PT1H
BEGIN:VTIMEZONE
TZID:America/Toronto
BEGIN:DAYLIGHT
TZOFFSETFROM:-0500
TZOFFSETTO:-0400
TZNAME:EDT
DTSTART:20260308T070000
END:DAYLIGHT
BEGIN:STANDARD
TZOFFSETFROM:-0400
TZOFFSETTO:-0500
TZNAME:EST
DTSTART:20261101T060000
END:STANDARD
BEGIN:DAYLIGHT
TZOFFSETFROM:-0500
TZOFFSETTO:-0400
TZNAME:EDT
DTSTART:20270314T070000
END:DAYLIGHT
BEGIN:STANDARD
TZOFFSETFROM:-0400
TZOFFSETTO:-0500
TZNAME:EST
DTSTART:20271107T060000
END:STANDARD
BEGIN:DAYLIGHT
TZOFFSETFROM:-0500
TZOFFSETTO:-0400
TZNAME:EDT
DTSTART:20280312T070000
END:DAYLIGHT
BEGIN:STANDARD
TZOFFSETFROM:-0400
TZOFFSETTO:-0500
TZNAME:EST
DTSTART:20281105T060000
END:STANDARD
BEGIN:DAYLIGHT
TZOFFSETFROM:-0500
TZOFFSETTO:-0400
TZNAME:EDT
DTSTART:20290311T070000
END:DAYLIGHT
BEGIN:STANDARD
TZOFFSETFROM:-0400
TZOFFSETTO:-0500
TZNAME:EST
DTSTART:20291104T060000
END:STANDARD
END:VTIMEZONE
BEGIN:VEVENT
DTSTART;TZID=America/Toronto:20270307T130000
DTEND;TZID=America/Toronto:20270307T143000
DTSTAMP:20260419T094023
CREATED:20221222T155555Z
LAST-MODIFIED:20221222T160214Z
UID:10000447-1804424400-1804429800@holyrosary.ca
SUMMARY:Community Coffee
DESCRIPTION:Join us for the first Sunday of every month after the 12PM Mass in the Parish Hall for Community Coffee. \nIt's a great opportunity to meet your fellow Parishioners and help us foster a stronger parish community. We look forward to seeing you every Sunday. \nGoogle Business Update
URL:https://holyrosary.ca/event/community-coffee-2/2027-03-07/
LOCATION:Holy Rosary Parish Hall\, 356 St. Clair Ave. West\, Toronto\, Ontario\, M5P 1N4\, Canada
CATEGORIES:Community
ATTACH;FMTTYPE=image/jpeg:https://holyrosary.ca/wp-content/uploads/2022/05/t-steele-x-mIAFbAL-o-unsplash-scaled-e1651594836363.jpg
END:VEVENT
BEGIN:VEVENT
DTSTART;TZID=America/Toronto:20270402T120000
DTEND;TZID=America/Toronto:20270402T150000
DTSTAMP:20260419T094023
CREATED:20241203T200934Z
LAST-MODIFIED:20241214T192458Z
UID:10000560-1806667200-1806678000@holyrosary.ca
SUMMARY:First Friday Devotions
DESCRIPTION:We invite you to join us every first Friday of the Month. \nMass 12.10 p.m. \nExposition of the Blessed Sacrament with devotions until 3 p.m.   \nCultivate more inner peace by spending time with our Lord Jesus Christ.
URL:https://holyrosary.ca/event/first-friday-devotions/2027-04-02/
LOCATION:Holy Rosary Parish Hall\, 356 St. Clair Ave. West\, Toronto\, Ontario\, M5P 1N4\, Canada
CATEGORIES:First Friday Devotions
END:VEVENT
BEGIN:VEVENT
DTSTART;TZID=America/Toronto:20270404T130000
DTEND;TZID=America/Toronto:20270404T143000
DTSTAMP:20260419T094023
CREATED:20221222T155555Z
LAST-MODIFIED:20221222T160214Z
UID:10000448-1806843600-1806849000@holyrosary.ca
SUMMARY:Community Coffee
DESCRIPTION:Join us for the first Sunday of every month after the 12PM Mass in the Parish Hall for Community Coffee. \nIt's a great opportunity to meet your fellow Parishioners and help us foster a stronger parish community. We look forward to seeing you every Sunday. \nGoogle Business Update
URL:https://holyrosary.ca/event/community-coffee-2/2027-04-04/
LOCATION:Holy Rosary Parish Hall\, 356 St. Clair Ave. West\, Toronto\, Ontario\, M5P 1N4\, Canada
CATEGORIES:Community
ATTACH;FMTTYPE=image/jpeg:https://holyrosary.ca/wp-content/uploads/2022/05/t-steele-x-mIAFbAL-o-unsplash-scaled-e1651594836363.jpg
END:VEVENT
BEGIN:VEVENT
DTSTART;TZID=America/Toronto:20270502T130000
DTEND;TZID=America/Toronto:20270502T143000
DTSTAMP:20260419T094023
CREATED:20221222T155555Z
LAST-MODIFIED:20221222T160214Z
UID:10000449-1809262800-1809268200@holyrosary.ca
SUMMARY:Community Coffee
DESCRIPTION:Join us for the first Sunday of every month after the 12PM Mass in the Parish Hall for Community Coffee. \nIt's a great opportunity to meet your fellow Parishioners and help us foster a stronger parish community. We look forward to seeing you every Sunday. \nGoogle Business Update
URL:https://holyrosary.ca/event/community-coffee-2/2027-05-02/
LOCATION:Holy Rosary Parish Hall\, 356 St. Clair Ave. West\, Toronto\, Ontario\, M5P 1N4\, Canada
CATEGORIES:Community
ATTACH;FMTTYPE=image/jpeg:https://holyrosary.ca/wp-content/uploads/2022/05/t-steele-x-mIAFbAL-o-unsplash-scaled-e1651594836363.jpg
END:VEVENT
BEGIN:VEVENT
DTSTART;TZID=America/Toronto:20270507T120000
DTEND;TZID=America/Toronto:20270507T150000
DTSTAMP:20260419T094023
CREATED:20241203T200934Z
LAST-MODIFIED:20241214T192458Z
UID:10000561-1809691200-1809702000@holyrosary.ca
SUMMARY:First Friday Devotions
DESCRIPTION:We invite you to join us every first Friday of the Month. \nMass 12.10 p.m. \nExposition of the Blessed Sacrament with devotions until 3 p.m.   \nCultivate more inner peace by spending time with our Lord Jesus Christ.
URL:https://holyrosary.ca/event/first-friday-devotions/2027-05-07/
LOCATION:Holy Rosary Parish Hall\, 356 St. Clair Ave. West\, Toronto\, Ontario\, M5P 1N4\, Canada
CATEGORIES:First Friday Devotions
END:VEVENT
BEGIN:VEVENT
DTSTART;TZID=America/Toronto:20270604T120000
DTEND;TZID=America/Toronto:20270604T150000
DTSTAMP:20260419T094023
CREATED:20241203T200934Z
LAST-MODIFIED:20241214T192458Z
UID:10000562-1812110400-1812121200@holyrosary.ca
SUMMARY:First Friday Devotions
DESCRIPTION:We invite you to join us every first Friday of the Month. \nMass 12.10 p.m. \nExposition of the Blessed Sacrament with devotions until 3 p.m.   \nCultivate more inner peace by spending time with our Lord Jesus Christ.
URL:https://holyrosary.ca/event/first-friday-devotions/2027-06-04/
LOCATION:Holy Rosary Parish Hall\, 356 St. Clair Ave. West\, Toronto\, Ontario\, M5P 1N4\, Canada
CATEGORIES:First Friday Devotions
END:VEVENT
BEGIN:VEVENT
DTSTART;TZID=America/Toronto:20270606T130000
DTEND;TZID=America/Toronto:20270606T143000
DTSTAMP:20260419T094023
CREATED:20221222T155555Z
LAST-MODIFIED:20221222T160214Z
UID:10000450-1812286800-1812292200@holyrosary.ca
SUMMARY:Community Coffee
DESCRIPTION:Join us for the first Sunday of every month after the 12PM Mass in the Parish Hall for Community Coffee. \nIt's a great opportunity to meet your fellow Parishioners and help us foster a stronger parish community. We look forward to seeing you every Sunday. \nGoogle Business Update
URL:https://holyrosary.ca/event/community-coffee-2/2027-06-06/
LOCATION:Holy Rosary Parish Hall\, 356 St. Clair Ave. West\, Toronto\, Ontario\, M5P 1N4\, Canada
CATEGORIES:Community
ATTACH;FMTTYPE=image/jpeg:https://holyrosary.ca/wp-content/uploads/2022/05/t-steele-x-mIAFbAL-o-unsplash-scaled-e1651594836363.jpg
END:VEVENT
BEGIN:VEVENT
DTSTART;TZID=America/Toronto:20270702T120000
DTEND;TZID=America/Toronto:20270702T150000
DTSTAMP:20260419T094023
CREATED:20241203T200934Z
LAST-MODIFIED:20241214T192458Z
UID:10000563-1814529600-1814540400@holyrosary.ca
SUMMARY:First Friday Devotions
DESCRIPTION:We invite you to join us every first Friday of the Month. \nMass 12.10 p.m. \nExposition of the Blessed Sacrament with devotions until 3 p.m.   \nCultivate more inner peace by spending time with our Lord Jesus Christ.
URL:https://holyrosary.ca/event/first-friday-devotions/2027-07-02/
LOCATION:Holy Rosary Parish Hall\, 356 St. Clair Ave. West\, Toronto\, Ontario\, M5P 1N4\, Canada
CATEGORIES:First Friday Devotions
END:VEVENT
BEGIN:VEVENT
DTSTART;TZID=America/Toronto:20270704T130000
DTEND;TZID=America/Toronto:20270704T143000
DTSTAMP:20260419T094023
CREATED:20221222T155555Z
LAST-MODIFIED:20221222T160214Z
UID:10000451-1814706000-1814711400@holyrosary.ca
SUMMARY:Community Coffee
DESCRIPTION:Join us for the first Sunday of every month after the 12PM Mass in the Parish Hall for Community Coffee. \nIt's a great opportunity to meet your fellow Parishioners and help us foster a stronger parish community. We look forward to seeing you every Sunday. \nGoogle Business Update
URL:https://holyrosary.ca/event/community-coffee-2/2027-07-04/
LOCATION:Holy Rosary Parish Hall\, 356 St. Clair Ave. West\, Toronto\, Ontario\, M5P 1N4\, Canada
CATEGORIES:Community
ATTACH;FMTTYPE=image/jpeg:https://holyrosary.ca/wp-content/uploads/2022/05/t-steele-x-mIAFbAL-o-unsplash-scaled-e1651594836363.jpg
END:VEVENT
BEGIN:VEVENT
DTSTART;TZID=America/Toronto:20270801T130000
DTEND;TZID=America/Toronto:20270801T143000
DTSTAMP:20260419T094023
CREATED:20221222T155555Z
LAST-MODIFIED:20221222T160214Z
UID:10000452-1817125200-1817130600@holyrosary.ca
SUMMARY:Community Coffee
DESCRIPTION:Join us for the first Sunday of every month after the 12PM Mass in the Parish Hall for Community Coffee. \nIt's a great opportunity to meet your fellow Parishioners and help us foster a stronger parish community. We look forward to seeing you every Sunday. \nGoogle Business Update
URL:https://holyrosary.ca/event/community-coffee-2/2027-08-01/
LOCATION:Holy Rosary Parish Hall\, 356 St. Clair Ave. West\, Toronto\, Ontario\, M5P 1N4\, Canada
CATEGORIES:Community
ATTACH;FMTTYPE=image/jpeg:https://holyrosary.ca/wp-content/uploads/2022/05/t-steele-x-mIAFbAL-o-unsplash-scaled-e1651594836363.jpg
END:VEVENT
BEGIN:VEVENT
DTSTART;TZID=America/Toronto:20270806T120000
DTEND;TZID=America/Toronto:20270806T150000
DTSTAMP:20260419T094023
CREATED:20241203T200934Z
LAST-MODIFIED:20241214T192458Z
UID:10000564-1817553600-1817564400@holyrosary.ca
SUMMARY:First Friday Devotions
DESCRIPTION:We invite you to join us every first Friday of the Month. \nMass 12.10 p.m. \nExposition of the Blessed Sacrament with devotions until 3 p.m.   \nCultivate more inner peace by spending time with our Lord Jesus Christ.
URL:https://holyrosary.ca/event/first-friday-devotions/2027-08-06/
LOCATION:Holy Rosary Parish Hall\, 356 St. Clair Ave. West\, Toronto\, Ontario\, M5P 1N4\, Canada
CATEGORIES:First Friday Devotions
END:VEVENT
BEGIN:VEVENT
DTSTART;TZID=America/Toronto:20270903T120000
DTEND;TZID=America/Toronto:20270903T150000
DTSTAMP:20260419T094023
CREATED:20241203T200934Z
LAST-MODIFIED:20241214T192458Z
UID:10000565-1819972800-1819983600@holyrosary.ca
SUMMARY:First Friday Devotions
DESCRIPTION:We invite you to join us every first Friday of the Month. \nMass 12.10 p.m. \nExposition of the Blessed Sacrament with devotions until 3 p.m.   \nCultivate more inner peace by spending time with our Lord Jesus Christ.
URL:https://holyrosary.ca/event/first-friday-devotions/2027-09-03/
LOCATION:Holy Rosary Parish Hall\, 356 St. Clair Ave. West\, Toronto\, Ontario\, M5P 1N4\, Canada
CATEGORIES:First Friday Devotions
END:VEVENT
BEGIN:VEVENT
DTSTART;TZID=America/Toronto:20270905T130000
DTEND;TZID=America/Toronto:20270905T143000
DTSTAMP:20260419T094023
CREATED:20221222T155555Z
LAST-MODIFIED:20221222T160214Z
UID:10000453-1820149200-1820154600@holyrosary.ca
SUMMARY:Community Coffee
DESCRIPTION:Join us for the first Sunday of every month after the 12PM Mass in the Parish Hall for Community Coffee. \nIt's a great opportunity to meet your fellow Parishioners and help us foster a stronger parish community. We look forward to seeing you every Sunday. \nGoogle Business Update
URL:https://holyrosary.ca/event/community-coffee-2/2027-09-05/
LOCATION:Holy Rosary Parish Hall\, 356 St. Clair Ave. West\, Toronto\, Ontario\, M5P 1N4\, Canada
CATEGORIES:Community
ATTACH;FMTTYPE=image/jpeg:https://holyrosary.ca/wp-content/uploads/2022/05/t-steele-x-mIAFbAL-o-unsplash-scaled-e1651594836363.jpg
END:VEVENT
BEGIN:VEVENT
DTSTART;TZID=America/Toronto:20271001T120000
DTEND;TZID=America/Toronto:20271001T150000
DTSTAMP:20260419T094023
CREATED:20241203T200934Z
LAST-MODIFIED:20241214T192458Z
UID:10000566-1822392000-1822402800@holyrosary.ca
SUMMARY:First Friday Devotions
DESCRIPTION:We invite you to join us every first Friday of the Month. \nMass 12.10 p.m. \nExposition of the Blessed Sacrament with devotions until 3 p.m.   \nCultivate more inner peace by spending time with our Lord Jesus Christ.
URL:https://holyrosary.ca/event/first-friday-devotions/2027-10-01/
LOCATION:Holy Rosary Parish Hall\, 356 St. Clair Ave. West\, Toronto\, Ontario\, M5P 1N4\, Canada
CATEGORIES:First Friday Devotions
END:VEVENT
BEGIN:VEVENT
DTSTART;TZID=America/Toronto:20271003T130000
DTEND;TZID=America/Toronto:20271003T143000
DTSTAMP:20260419T094023
CREATED:20221222T155555Z
LAST-MODIFIED:20221222T160214Z
UID:10000454-1822568400-1822573800@holyrosary.ca
SUMMARY:Community Coffee
DESCRIPTION:Join us for the first Sunday of every month after the 12PM Mass in the Parish Hall for Community Coffee. \nIt's a great opportunity to meet your fellow Parishioners and help us foster a stronger parish community. We look forward to seeing you every Sunday. \nGoogle Business Update
URL:https://holyrosary.ca/event/community-coffee-2/2027-10-03/
LOCATION:Holy Rosary Parish Hall\, 356 St. Clair Ave. West\, Toronto\, Ontario\, M5P 1N4\, Canada
CATEGORIES:Community
ATTACH;FMTTYPE=image/jpeg:https://holyrosary.ca/wp-content/uploads/2022/05/t-steele-x-mIAFbAL-o-unsplash-scaled-e1651594836363.jpg
END:VEVENT
BEGIN:VEVENT
DTSTART;TZID=America/Toronto:20271105T120000
DTEND;TZID=America/Toronto:20271105T150000
DTSTAMP:20260419T094023
CREATED:20241203T200934Z
LAST-MODIFIED:20241214T192458Z
UID:10000567-1825416000-1825426800@holyrosary.ca
SUMMARY:First Friday Devotions
DESCRIPTION:We invite you to join us every first Friday of the Month. \nMass 12.10 p.m. \nExposition of the Blessed Sacrament with devotions until 3 p.m.   \nCultivate more inner peace by spending time with our Lord Jesus Christ.
URL:https://holyrosary.ca/event/first-friday-devotions/2027-11-05/
LOCATION:Holy Rosary Parish Hall\, 356 St. Clair Ave. West\, Toronto\, Ontario\, M5P 1N4\, Canada
CATEGORIES:First Friday Devotions
END:VEVENT
BEGIN:VEVENT
DTSTART;TZID=America/Toronto:20271107T130000
DTEND;TZID=America/Toronto:20271107T143000
DTSTAMP:20260419T094023
CREATED:20221222T155555Z
LAST-MODIFIED:20221222T160214Z
UID:10000455-1825592400-1825597800@holyrosary.ca
SUMMARY:Community Coffee
DESCRIPTION:Join us for the first Sunday of every month after the 12PM Mass in the Parish Hall for Community Coffee. \nIt's a great opportunity to meet your fellow Parishioners and help us foster a stronger parish community. We look forward to seeing you every Sunday. \nGoogle Business Update
URL:https://holyrosary.ca/event/community-coffee-2/2027-11-07/
LOCATION:Holy Rosary Parish Hall\, 356 St. Clair Ave. West\, Toronto\, Ontario\, M5P 1N4\, Canada
CATEGORIES:Community
ATTACH;FMTTYPE=image/jpeg:https://holyrosary.ca/wp-content/uploads/2022/05/t-steele-x-mIAFbAL-o-unsplash-scaled-e1651594836363.jpg
END:VEVENT
BEGIN:VEVENT
DTSTART;TZID=America/Toronto:20271203T120000
DTEND;TZID=America/Toronto:20271203T150000
DTSTAMP:20260419T094023
CREATED:20241203T200934Z
LAST-MODIFIED:20241214T192458Z
UID:10000568-1827835200-1827846000@holyrosary.ca
SUMMARY:First Friday Devotions
DESCRIPTION:We invite you to join us every first Friday of the Month. \nMass 12.10 p.m. \nExposition of the Blessed Sacrament with devotions until 3 p.m.   \nCultivate more inner peace by spending time with our Lord Jesus Christ.
URL:https://holyrosary.ca/event/first-friday-devotions/2027-12-03/
LOCATION:Holy Rosary Parish Hall\, 356 St. Clair Ave. West\, Toronto\, Ontario\, M5P 1N4\, Canada
CATEGORIES:First Friday Devotions
END:VEVENT
BEGIN:VEVENT
DTSTART;TZID=America/Toronto:20271205T130000
DTEND;TZID=America/Toronto:20271205T143000
DTSTAMP:20260419T094023
CREATED:20221222T155555Z
LAST-MODIFIED:20221222T160214Z
UID:10000456-1828011600-1828017000@holyrosary.ca
SUMMARY:Community Coffee
DESCRIPTION:Join us for the first Sunday of every month after the 12PM Mass in the Parish Hall for Community Coffee. \nIt's a great opportunity to meet your fellow Parishioners and help us foster a stronger parish community. We look forward to seeing you every Sunday. \nGoogle Business Update
URL:https://holyrosary.ca/event/community-coffee-2/2027-12-05/
LOCATION:Holy Rosary Parish Hall\, 356 St. Clair Ave. West\, Toronto\, Ontario\, M5P 1N4\, Canada
CATEGORIES:Community
ATTACH;FMTTYPE=image/jpeg:https://holyrosary.ca/wp-content/uploads/2022/05/t-steele-x-mIAFbAL-o-unsplash-scaled-e1651594836363.jpg
END:VEVENT
BEGIN:VEVENT
DTSTART;TZID=America/Toronto:20280102T130000
DTEND;TZID=America/Toronto:20280102T143000
DTSTAMP:20260419T094023
CREATED:20221222T155555Z
LAST-MODIFIED:20221222T160214Z
UID:10000457-1830430800-1830436200@holyrosary.ca
SUMMARY:Community Coffee
DESCRIPTION:Join us for the first Sunday of every month after the 12PM Mass in the Parish Hall for Community Coffee. \nIt's a great opportunity to meet your fellow Parishioners and help us foster a stronger parish community. We look forward to seeing you every Sunday. \nGoogle Business Update
URL:https://holyrosary.ca/event/community-coffee-2/2028-01-02/
LOCATION:Holy Rosary Parish Hall\, 356 St. Clair Ave. West\, Toronto\, Ontario\, M5P 1N4\, Canada
CATEGORIES:Community
ATTACH;FMTTYPE=image/jpeg:https://holyrosary.ca/wp-content/uploads/2022/05/t-steele-x-mIAFbAL-o-unsplash-scaled-e1651594836363.jpg
END:VEVENT
BEGIN:VEVENT
DTSTART;TZID=America/Toronto:20280107T120000
DTEND;TZID=America/Toronto:20280107T150000
DTSTAMP:20260419T094023
CREATED:20241203T200934Z
LAST-MODIFIED:20241214T192458Z
UID:10000569-1830859200-1830870000@holyrosary.ca
SUMMARY:First Friday Devotions
DESCRIPTION:We invite you to join us every first Friday of the Month. \nMass 12.10 p.m. \nExposition of the Blessed Sacrament with devotions until 3 p.m.   \nCultivate more inner peace by spending time with our Lord Jesus Christ.
URL:https://holyrosary.ca/event/first-friday-devotions/2028-01-07/
LOCATION:Holy Rosary Parish Hall\, 356 St. Clair Ave. West\, Toronto\, Ontario\, M5P 1N4\, Canada
CATEGORIES:First Friday Devotions
END:VEVENT
BEGIN:VEVENT
DTSTART;TZID=America/Toronto:20280204T120000
DTEND;TZID=America/Toronto:20280204T150000
DTSTAMP:20260419T094023
CREATED:20241203T200934Z
LAST-MODIFIED:20241214T192458Z
UID:10000570-1833278400-1833289200@holyrosary.ca
SUMMARY:First Friday Devotions
DESCRIPTION:We invite you to join us every first Friday of the Month. \nMass 12.10 p.m. \nExposition of the Blessed Sacrament with devotions until 3 p.m.   \nCultivate more inner peace by spending time with our Lord Jesus Christ.
URL:https://holyrosary.ca/event/first-friday-devotions/2028-02-04/
LOCATION:Holy Rosary Parish Hall\, 356 St. Clair Ave. West\, Toronto\, Ontario\, M5P 1N4\, Canada
CATEGORIES:First Friday Devotions
END:VEVENT
BEGIN:VEVENT
DTSTART;TZID=America/Toronto:20280206T130000
DTEND;TZID=America/Toronto:20280206T143000
DTSTAMP:20260419T094023
CREATED:20221222T155555Z
LAST-MODIFIED:20221222T160214Z
UID:10000458-1833454800-1833460200@holyrosary.ca
SUMMARY:Community Coffee
DESCRIPTION:Join us for the first Sunday of every month after the 12PM Mass in the Parish Hall for Community Coffee. \nIt's a great opportunity to meet your fellow Parishioners and help us foster a stronger parish community. We look forward to seeing you every Sunday. \nGoogle Business Update
URL:https://holyrosary.ca/event/community-coffee-2/2028-02-06/
LOCATION:Holy Rosary Parish Hall\, 356 St. Clair Ave. West\, Toronto\, Ontario\, M5P 1N4\, Canada
CATEGORIES:Community
ATTACH;FMTTYPE=image/jpeg:https://holyrosary.ca/wp-content/uploads/2022/05/t-steele-x-mIAFbAL-o-unsplash-scaled-e1651594836363.jpg
END:VEVENT
BEGIN:VEVENT
DTSTART;TZID=America/Toronto:20280303T120000
DTEND;TZID=America/Toronto:20280303T150000
DTSTAMP:20260419T094023
CREATED:20241203T200934Z
LAST-MODIFIED:20241214T192458Z
UID:10000571-1835697600-1835708400@holyrosary.ca
SUMMARY:First Friday Devotions
DESCRIPTION:We invite you to join us every first Friday of the Month. \nMass 12.10 p.m. \nExposition of the Blessed Sacrament with devotions until 3 p.m.   \nCultivate more inner peace by spending time with our Lord Jesus Christ.
URL:https://holyrosary.ca/event/first-friday-devotions/2028-03-03/
LOCATION:Holy Rosary Parish Hall\, 356 St. Clair Ave. West\, Toronto\, Ontario\, M5P 1N4\, Canada
CATEGORIES:First Friday Devotions
END:VEVENT
BEGIN:VEVENT
DTSTART;TZID=America/Toronto:20280305T130000
DTEND;TZID=America/Toronto:20280305T143000
DTSTAMP:20260419T094023
CREATED:20221222T155555Z
LAST-MODIFIED:20221222T160214Z
UID:10000459-1835874000-1835879400@holyrosary.ca
SUMMARY:Community Coffee
DESCRIPTION:Join us for the first Sunday of every month after the 12PM Mass in the Parish Hall for Community Coffee. \nIt's a great opportunity to meet your fellow Parishioners and help us foster a stronger parish community. We look forward to seeing you every Sunday. \nGoogle Business Update
URL:https://holyrosary.ca/event/community-coffee-2/2028-03-05/
LOCATION:Holy Rosary Parish Hall\, 356 St. Clair Ave. West\, Toronto\, Ontario\, M5P 1N4\, Canada
CATEGORIES:Community
ATTACH;FMTTYPE=image/jpeg:https://holyrosary.ca/wp-content/uploads/2022/05/t-steele-x-mIAFbAL-o-unsplash-scaled-e1651594836363.jpg
END:VEVENT
BEGIN:VEVENT
DTSTART;TZID=America/Toronto:20280402T130000
DTEND;TZID=America/Toronto:20280402T143000
DTSTAMP:20260419T094023
CREATED:20221222T155555Z
LAST-MODIFIED:20221222T160214Z
UID:10000460-1838293200-1838298600@holyrosary.ca
SUMMARY:Community Coffee
DESCRIPTION:Join us for the first Sunday of every month after the 12PM Mass in the Parish Hall for Community Coffee. \nIt's a great opportunity to meet your fellow Parishioners and help us foster a stronger parish community. We look forward to seeing you every Sunday. \nGoogle Business Update
URL:https://holyrosary.ca/event/community-coffee-2/2028-04-02/
LOCATION:Holy Rosary Parish Hall\, 356 St. Clair Ave. West\, Toronto\, Ontario\, M5P 1N4\, Canada
CATEGORIES:Community
ATTACH;FMTTYPE=image/jpeg:https://holyrosary.ca/wp-content/uploads/2022/05/t-steele-x-mIAFbAL-o-unsplash-scaled-e1651594836363.jpg
END:VEVENT
BEGIN:VEVENT
DTSTART;TZID=America/Toronto:20280407T120000
DTEND;TZID=America/Toronto:20280407T150000
DTSTAMP:20260419T094023
CREATED:20241203T200934Z
LAST-MODIFIED:20241214T192458Z
UID:10000572-1838721600-1838732400@holyrosary.ca
SUMMARY:First Friday Devotions
DESCRIPTION:We invite you to join us every first Friday of the Month. \nMass 12.10 p.m. \nExposition of the Blessed Sacrament with devotions until 3 p.m.   \nCultivate more inner peace by spending time with our Lord Jesus Christ.
URL:https://holyrosary.ca/event/first-friday-devotions/2028-04-07/
LOCATION:Holy Rosary Parish Hall\, 356 St. Clair Ave. West\, Toronto\, Ontario\, M5P 1N4\, Canada
CATEGORIES:First Friday Devotions
END:VEVENT
BEGIN:VEVENT
DTSTART;TZID=America/Toronto:20280505T120000
DTEND;TZID=America/Toronto:20280505T150000
DTSTAMP:20260419T094023
CREATED:20241203T200934Z
LAST-MODIFIED:20241214T192458Z
UID:10000573-1841140800-1841151600@holyrosary.ca
SUMMARY:First Friday Devotions
DESCRIPTION:We invite you to join us every first Friday of the Month. \nMass 12.10 p.m. \nExposition of the Blessed Sacrament with devotions until 3 p.m.   \nCultivate more inner peace by spending time with our Lord Jesus Christ.
URL:https://holyrosary.ca/event/first-friday-devotions/2028-05-05/
LOCATION:Holy Rosary Parish Hall\, 356 St. Clair Ave. West\, Toronto\, Ontario\, M5P 1N4\, Canada
CATEGORIES:First Friday Devotions
END:VEVENT
BEGIN:VEVENT
DTSTART;TZID=America/Toronto:20280507T130000
DTEND;TZID=America/Toronto:20280507T143000
DTSTAMP:20260419T094023
CREATED:20221222T155555Z
LAST-MODIFIED:20221222T160214Z
UID:10000461-1841317200-1841322600@holyrosary.ca
SUMMARY:Community Coffee
DESCRIPTION:Join us for the first Sunday of every month after the 12PM Mass in the Parish Hall for Community Coffee. \nIt's a great opportunity to meet your fellow Parishioners and help us foster a stronger parish community. We look forward to seeing you every Sunday. \nGoogle Business Update
URL:https://holyrosary.ca/event/community-coffee-2/2028-05-07/
LOCATION:Holy Rosary Parish Hall\, 356 St. Clair Ave. West\, Toronto\, Ontario\, M5P 1N4\, Canada
CATEGORIES:Community
ATTACH;FMTTYPE=image/jpeg:https://holyrosary.ca/wp-content/uploads/2022/05/t-steele-x-mIAFbAL-o-unsplash-scaled-e1651594836363.jpg
END:VEVENT
BEGIN:VEVENT
DTSTART;TZID=America/Toronto:20280602T120000
DTEND;TZID=America/Toronto:20280602T150000
DTSTAMP:20260419T094023
CREATED:20241203T200934Z
LAST-MODIFIED:20241214T192458Z
UID:10000574-1843560000-1843570800@holyrosary.ca
SUMMARY:First Friday Devotions
DESCRIPTION:We invite you to join us every first Friday of the Month. \nMass 12.10 p.m. \nExposition of the Blessed Sacrament with devotions until 3 p.m.   \nCultivate more inner peace by spending time with our Lord Jesus Christ.
URL:https://holyrosary.ca/event/first-friday-devotions/2028-06-02/
LOCATION:Holy Rosary Parish Hall\, 356 St. Clair Ave. West\, Toronto\, Ontario\, M5P 1N4\, Canada
CATEGORIES:First Friday Devotions
END:VEVENT
END:VCALENDAR