BEGIN:VCALENDAR
VERSION:2.0
PRODID:-//Holy Rosary Parish - ECPv6.15.20//NONSGML v1.0//EN
CALSCALE:GREGORIAN
METHOD:PUBLISH
X-WR-CALNAME:Holy Rosary Parish
X-ORIGINAL-URL:https://holyrosary.ca
X-WR-CALDESC:Events for Holy Rosary Parish
REFRESH-INTERVAL;VALUE=DURATION:PT1H
X-Robots-Tag:noindex
X-PUBLISHED-TTL:PT1H
BEGIN:VTIMEZONE
TZID:America/Toronto
BEGIN:DAYLIGHT
TZOFFSETFROM:-0500
TZOFFSETTO:-0400
TZNAME:EDT
DTSTART:20250309T070000
END:DAYLIGHT
BEGIN:STANDARD
TZOFFSETFROM:-0400
TZOFFSETTO:-0500
TZNAME:EST
DTSTART:20251102T060000
END:STANDARD
BEGIN:DAYLIGHT
TZOFFSETFROM:-0500
TZOFFSETTO:-0400
TZNAME:EDT
DTSTART:20260308T070000
END:DAYLIGHT
BEGIN:STANDARD
TZOFFSETFROM:-0400
TZOFFSETTO:-0500
TZNAME:EST
DTSTART:20261101T060000
END:STANDARD
BEGIN:DAYLIGHT
TZOFFSETFROM:-0500
TZOFFSETTO:-0400
TZNAME:EDT
DTSTART:20270314T070000
END:DAYLIGHT
BEGIN:STANDARD
TZOFFSETFROM:-0400
TZOFFSETTO:-0500
TZNAME:EST
DTSTART:20271107T060000
END:STANDARD
END:VTIMEZONE
BEGIN:VEVENT
DTSTART;TZID=America/Toronto:20260217T190000
DTEND;TZID=America/Toronto:20260217T203000
DTSTAMP:20260419T081929
CREATED:20260104T153332Z
LAST-MODIFIED:20260104T153414Z
UID:10000647-1771354800-1771360200@holyrosary.ca
SUMMARY:Paint with Us!
DESCRIPTION:Starting on Tuesday\, February 3rd\, we will be meeting in the Parish Hall every Tuesday with our canvasses and paintbrushes to make some art together! This is a great way to add some colour to these cold winter months\, and to bring out our creativity in community. To register\, please email LPA@holyrosary.ca\, and we kindly ask that you bring your own materials.
URL:https://holyrosary.ca/event/paint-with-us/2026-02-17/
LOCATION:Holy Rosary Parish Hall\, 356 St. Clair Ave. West\, Toronto\, Ontario\, M5P 1N4\, Canada
END:VEVENT
BEGIN:VEVENT
DTSTART;TZID=America/Toronto:20260217T190000
DTEND;TZID=America/Toronto:20260217T203000
DTSTAMP:20260419T081929
CREATED:20260202T214004Z
LAST-MODIFIED:20260202T214031Z
UID:10000808-1771354800-1771360200@holyrosary.ca
SUMMARY:Prepare for the Marian Consecration with Fr. Peter
DESCRIPTION:Fr. Peter will give a talk before we begin our Consecration Prayers on February 20th. Our Consecration Date is on March 25th\, the Feast of the Annunciation.
URL:https://holyrosary.ca/event/talk-consecration-preparation/
LOCATION:Holy Rosary Parish Hall\, 356 St. Clair Ave. West\, Toronto\, Ontario\, M5P 1N4\, Canada
ORGANIZER;CN="Formation Ministry":MAILTO:formation@holyrosary.ca
END:VEVENT
BEGIN:VEVENT
DTSTART;TZID=America/Toronto:20260218T120000
DTEND;TZID=America/Toronto:20260218T130000
DTSTAMP:20260419T081929
CREATED:20260126T163111Z
LAST-MODIFIED:20260126T163111Z
UID:10000741-1771416000-1771419600@holyrosary.ca
SUMMARY:Ash Wednesday Mass
DESCRIPTION:Join us for Ash Wednesday Mass\, either at 12:10pm or at 7pm.
URL:https://holyrosary.ca/event/ash-wednesday-mass/
LOCATION:Holy Rosary Parish\, 354 St Clair Avenue West\, Toronto\, Ontario\, M5P 1N4\, Canada
ORGANIZER;CN="Formation Ministry":MAILTO:formation@holyrosary.ca
END:VEVENT
BEGIN:VEVENT
DTSTART;TZID=America/Toronto:20260218T190000
DTEND;TZID=America/Toronto:20260218T200000
DTSTAMP:20260419T081929
CREATED:20260126T163146Z
LAST-MODIFIED:20260126T163157Z
UID:10000742-1771441200-1771444800@holyrosary.ca
SUMMARY:Ash Wednesday Mass (Evening)
DESCRIPTION:Join us for Ash Wednesday Mass\, either at 12:10pm or at 7pm.
URL:https://holyrosary.ca/event/ash-wednesday-mass-evening/
LOCATION:Holy Rosary Parish\, 354 St Clair Avenue West\, Toronto\, Ontario\, M5P 1N4\, Canada
ORGANIZER;CN="Formation Ministry":MAILTO:formation@holyrosary.ca
END:VEVENT
BEGIN:VEVENT
DTSTART;VALUE=DATE:20260220
DTEND;VALUE=DATE:20260326
DTSTAMP:20260419T081929
CREATED:20260104T152334Z
LAST-MODIFIED:20260104T152431Z
UID:10000644-1771545600-1774483199@holyrosary.ca
SUMMARY:Consecration to Jesus through Mary
DESCRIPTION:On January 1st\, 2026\, we will start selling the booklets of prayers that will guide us towards our parish-wide Marian Consecration on March 25th\, 2026—the feast of the Annunciation of the Angel Gabriel to Mary. You can purchase a booklet from the Parish Office\, for $5 each\, and we will begin the prayers on February 20th\, 2026.
URL:https://holyrosary.ca/event/consecration-to-jesus-through-mary/
LOCATION:Ontario
END:VEVENT
BEGIN:VEVENT
DTSTART;TZID=America/Toronto:20260220T183000
DTEND;TZID=America/Toronto:20260220T200000
DTSTAMP:20260419T081929
CREATED:20260126T163430Z
LAST-MODIFIED:20260228T181318Z
UID:10000743-1771612200-1771617600@holyrosary.ca
SUMMARY:Fridays During Lent
DESCRIPTION:Every Friday during Lent\, we will pray the Stations of the Cross at 6:30pm\, Mass at 7pm\, and listen to a Lenten Reflection at 7:30pm.
URL:https://holyrosary.ca/event/fridays-during-lent/2026-02-20/
LOCATION:Holy Rosary Parish\, 354 St Clair Avenue West\, Toronto\, Ontario\, M5P 1N4\, Canada
ORGANIZER;CN="Formation Ministry":MAILTO:formation@holyrosary.ca
END:VEVENT
END:VCALENDAR