BEGIN:VCALENDAR
VERSION:2.0
PRODID:-//Holy Rosary Parish - ECPv6.15.20//NONSGML v1.0//EN
CALSCALE:GREGORIAN
METHOD:PUBLISH
X-WR-CALNAME:Holy Rosary Parish
X-ORIGINAL-URL:https://holyrosary.ca
X-WR-CALDESC:Events for Holy Rosary Parish
REFRESH-INTERVAL;VALUE=DURATION:PT1H
X-Robots-Tag:noindex
X-PUBLISHED-TTL:PT1H
BEGIN:VTIMEZONE
TZID:America/Toronto
BEGIN:DAYLIGHT
TZOFFSETFROM:-0500
TZOFFSETTO:-0400
TZNAME:EDT
DTSTART:20240310T070000
END:DAYLIGHT
BEGIN:STANDARD
TZOFFSETFROM:-0400
TZOFFSETTO:-0500
TZNAME:EST
DTSTART:20241103T060000
END:STANDARD
BEGIN:DAYLIGHT
TZOFFSETFROM:-0500
TZOFFSETTO:-0400
TZNAME:EDT
DTSTART:20250309T070000
END:DAYLIGHT
BEGIN:STANDARD
TZOFFSETFROM:-0400
TZOFFSETTO:-0500
TZNAME:EST
DTSTART:20251102T060000
END:STANDARD
BEGIN:DAYLIGHT
TZOFFSETFROM:-0500
TZOFFSETTO:-0400
TZNAME:EDT
DTSTART:20260308T070000
END:DAYLIGHT
BEGIN:STANDARD
TZOFFSETFROM:-0400
TZOFFSETTO:-0500
TZNAME:EST
DTSTART:20261101T060000
END:STANDARD
END:VTIMEZONE
BEGIN:VEVENT
DTSTART;TZID=America/Toronto:20250716T080000
DTEND;TZID=America/Toronto:20250716T170000
DTSTAMP:20260423T015527
CREATED:20250705T143929Z
LAST-MODIFIED:20250712T152143Z
UID:10000637-1752652800-1752685200@holyrosary.ca
SUMMARY:Feast of Our Lady of Mount Carmel
DESCRIPTION:Join us for our celebration of the Feast of Our Lady of Mount Carmel on Tuesday\, July 16. \nHoly Rosary 11:30 AM \nHoly Mass 12:10 PM \nFollowed by Scapular Enrolment and Holy Hour
URL:https://holyrosary.ca/event/feast-of-our-lady-of-mount-carmel/
LOCATION:Holy Rosary Parish\, 354 St Clair Avenue West\, Toronto\, Ontario\, M5P 1N4\, Canada
END:VEVENT
END:VCALENDAR