BEGIN:VCALENDAR
VERSION:2.0
PRODID:-//Holy Rosary Parish - ECPv6.15.20//NONSGML v1.0//EN
CALSCALE:GREGORIAN
METHOD:PUBLISH
X-WR-CALNAME:Holy Rosary Parish
X-ORIGINAL-URL:https://holyrosary.ca
X-WR-CALDESC:Events for Holy Rosary Parish
REFRESH-INTERVAL;VALUE=DURATION:PT1H
X-Robots-Tag:noindex
X-PUBLISHED-TTL:PT1H
BEGIN:VTIMEZONE
TZID:America/Toronto
BEGIN:DAYLIGHT
TZOFFSETFROM:-0500
TZOFFSETTO:-0400
TZNAME:EDT
DTSTART:20240310T070000
END:DAYLIGHT
BEGIN:STANDARD
TZOFFSETFROM:-0400
TZOFFSETTO:-0500
TZNAME:EST
DTSTART:20241103T060000
END:STANDARD
BEGIN:DAYLIGHT
TZOFFSETFROM:-0500
TZOFFSETTO:-0400
TZNAME:EDT
DTSTART:20250309T070000
END:DAYLIGHT
BEGIN:STANDARD
TZOFFSETFROM:-0400
TZOFFSETTO:-0500
TZNAME:EST
DTSTART:20251102T060000
END:STANDARD
BEGIN:DAYLIGHT
TZOFFSETFROM:-0500
TZOFFSETTO:-0400
TZNAME:EDT
DTSTART:20260308T070000
END:DAYLIGHT
BEGIN:STANDARD
TZOFFSETFROM:-0400
TZOFFSETTO:-0500
TZNAME:EST
DTSTART:20261101T060000
END:STANDARD
END:VTIMEZONE
BEGIN:VEVENT
DTSTART;TZID=America/Toronto:20250402T190000
DTEND;TZID=America/Toronto:20250402T203000
DTSTAMP:20260422T160757
CREATED:20250215T185828Z
LAST-MODIFIED:20250215T185952Z
UID:10000617-1743620400-1743625800@holyrosary.ca
SUMMARY:Alpha Series - Spring 2025
DESCRIPTION:Alpha is back at Holy Rosary Parish\, Toronto. \nHere is your opportunity to discuss our faith with people just like yourself. Available to everybody 18+. \n \nConnect with your fellow Parishioners\, over refreshments and get ready to explore our faith further. \nPlanned schedule for this season's Alpha series:\nBeginning Wednesday\, March 12th at 7PM (No Classes: May 14\, 21 and June 4). Last class Wednesday\, June 11th. \nThe Alpha series is FREE to attend\, but registration is essential. \nRegister via Eventbrite.
URL:https://holyrosary.ca/event/alpha-series-spring-2025/2025-04-02/
LOCATION:Ontario
CATEGORIES:Alpha,Formation
ORGANIZER;CN="Formation Ministry":MAILTO:formation@holyrosary.ca
END:VEVENT
BEGIN:VEVENT
DTSTART;TZID=America/Toronto:20250404T120000
DTEND;TZID=America/Toronto:20250404T150000
DTSTAMP:20260422T160757
CREATED:20241203T200934Z
LAST-MODIFIED:20241214T192458Z
UID:10000536-1743768000-1743778800@holyrosary.ca
SUMMARY:First Friday Devotions
DESCRIPTION:We invite you to join us every first Friday of the Month. \nMass 12.10 p.m. \nExposition of the Blessed Sacrament with devotions until 3 p.m.   \nCultivate more inner peace by spending time with our Lord Jesus Christ.
URL:https://holyrosary.ca/event/first-friday-devotions/2025-04-04/
LOCATION:Holy Rosary Parish Hall\, 356 St. Clair Ave. West\, Toronto\, Ontario\, M5P 1N4\, Canada
CATEGORIES:First Friday Devotions
END:VEVENT
BEGIN:VEVENT
DTSTART;TZID=America/Toronto:20250404T183000
DTEND;TZID=America/Toronto:20250404T200000
DTSTAMP:20260422T160757
CREATED:20250203T171437Z
LAST-MODIFIED:20250203T171437Z
UID:10000610-1743791400-1743796800@holyrosary.ca
SUMMARY:Lenten Devotions
DESCRIPTION:Join us for our Lenten Devotions\, every Friday during between March 7 and April 11\, 2025. \n6:30 PM: Ways of the Cross \n7 PM: Holy Mass\n7.30 PM: Brief Spiritual Conference
URL:https://holyrosary.ca/event/lenten-devotions-2025/2025-04-04/
LOCATION:Holy Rosary Parish\, 354 St Clair Avenue West\, Toronto\, Ontario\, M5P 1N4\, Canada
END:VEVENT
BEGIN:VEVENT
DTSTART;TZID=America/Toronto:20250405T073000
DTEND;TZID=America/Toronto:20250405T163000
DTSTAMP:20260422T160757
CREATED:20250203T172322Z
LAST-MODIFIED:20250203T172322Z
UID:10000612-1743838200-1743870600@holyrosary.ca
SUMMARY:Joy in Lent? Day of Recollection with Fr. Donald Raila OSB
DESCRIPTION:In contrast to the emotion of happiness\, Christian Joy\, as a gift and a fruit of the Holy Spirit\, is always available and is based on our acceptance of a close relationship with Christ. Since Lent is a season of focus on renewal in Christ\, Joy should indeed be a characteristic of Lent\, as is evidenced by the Rule of St. Benedict. \nJoin us on a day of Recollection with Fr. Donald Raila OSB. \nAgenda: \n\n\n7:30 AM - 9:00 AM Registration\n9:00 AM - 10:00 AM Mass\n10:00 AM - 11:00 AM First Meditation\n11:00 AM - 12:00 PM Adoration of the Blessed Sacrament\n12:00 PM - 2:00 PM Lunch in the Parish Hall\n2:00 PM - 3:00 PM Second Meditation\n3:00 PM - 4:30 PM Adoration of the Blessed Sacrament with Benediction \nBuy your ticket via Eventbrite.\nFor more events visit our Parish calendar.
URL:https://holyrosary.ca/event/joy-in-lent-day-of-recollection-with-fr-donald-raila-osb/
LOCATION:Holy Rosary Parish\, 354 St Clair Avenue West\, Toronto\, Ontario\, M5P 1N4\, Canada
CATEGORIES:Retreats
END:VEVENT
BEGIN:VEVENT
DTSTART;TZID=America/Toronto:20250405T083000
DTEND;TZID=America/Toronto:20250405T103000
DTSTAMP:20260422T160757
CREATED:20240106T201212Z
LAST-MODIFIED:20241214T192048Z
UID:10000475-1743841800-1743849000@holyrosary.ca
SUMMARY:First Saturday Devotions
DESCRIPTION:Join us in honouring The Virgin Mary's request for First Saturday Devotions to Her Immaculate Heart. \nRosary at 8:30 a.m. with Veneration of relics of St. Jacinta & Francisco Marto. \nMass at 9:00 a.m. \nEucharistic Adoration with Fatima Prayers: 9:30 to 10:00 a.m.
URL:https://holyrosary.ca/event/first-saturday-devotions-2/2025-04-05/
LOCATION:Holy Rosary Parish\, 354 St Clair Avenue West\, Toronto\, Ontario\, M5P 1N4\, Canada
CATEGORIES:First Saturday Devotions
END:VEVENT
BEGIN:VEVENT
DTSTART;TZID=America/Toronto:20250406T130000
DTEND;TZID=America/Toronto:20250406T143000
DTSTAMP:20260422T160757
CREATED:20221222T155555Z
LAST-MODIFIED:20221222T160214Z
UID:10000424-1743944400-1743949800@holyrosary.ca
SUMMARY:Community Coffee
DESCRIPTION:Join us for the first Sunday of every month after the 12PM Mass in the Parish Hall for Community Coffee. \nIt's a great opportunity to meet your fellow Parishioners and help us foster a stronger parish community. We look forward to seeing you every Sunday. \nGoogle Business Update
URL:https://holyrosary.ca/event/community-coffee-2/2025-04-06/
LOCATION:Holy Rosary Parish Hall\, 356 St. Clair Ave. West\, Toronto\, Ontario\, M5P 1N4\, Canada
CATEGORIES:Community
ATTACH;FMTTYPE=image/jpeg:https://holyrosary.ca/wp-content/uploads/2022/05/t-steele-x-mIAFbAL-o-unsplash-scaled-e1651594836363.jpg
END:VEVENT
END:VCALENDAR