BEGIN:VCALENDAR
VERSION:2.0
PRODID:-//Holy Rosary Parish - ECPv6.15.20//NONSGML v1.0//EN
CALSCALE:GREGORIAN
METHOD:PUBLISH
X-WR-CALNAME:Holy Rosary Parish
X-ORIGINAL-URL:https://holyrosary.ca
X-WR-CALDESC:Events for Holy Rosary Parish
REFRESH-INTERVAL;VALUE=DURATION:PT1H
X-Robots-Tag:noindex
X-PUBLISHED-TTL:PT1H
BEGIN:VTIMEZONE
TZID:America/Toronto
BEGIN:DAYLIGHT
TZOFFSETFROM:-0500
TZOFFSETTO:-0400
TZNAME:EDT
DTSTART:20220313T070000
END:DAYLIGHT
BEGIN:STANDARD
TZOFFSETFROM:-0400
TZOFFSETTO:-0500
TZNAME:EST
DTSTART:20221106T060000
END:STANDARD
BEGIN:DAYLIGHT
TZOFFSETFROM:-0500
TZOFFSETTO:-0400
TZNAME:EDT
DTSTART:20230312T070000
END:DAYLIGHT
BEGIN:STANDARD
TZOFFSETFROM:-0400
TZOFFSETTO:-0500
TZNAME:EST
DTSTART:20231105T060000
END:STANDARD
BEGIN:DAYLIGHT
TZOFFSETFROM:-0500
TZOFFSETTO:-0400
TZNAME:EDT
DTSTART:20240310T070000
END:DAYLIGHT
BEGIN:STANDARD
TZOFFSETFROM:-0400
TZOFFSETTO:-0500
TZNAME:EST
DTSTART:20241103T060000
END:STANDARD
END:VTIMEZONE
BEGIN:VEVENT
DTSTART;TZID=America/Toronto:20230315T190000
DTEND;TZID=America/Toronto:20230315T203000
DTSTAMP:20260424T012709
CREATED:20230225T195651Z
LAST-MODIFIED:20230225T195652Z
UID:10000417-1678906800-1678912200@holyrosary.ca
SUMMARY:Lenten Series 2023 - St. Mother Teresa of Calculta
DESCRIPTION:Join us for our Lenten Series for 2023. \n\nLenten Talk on St. Mother Teresa's life & spirituality.\nSpiritual Reflection with the Missionaries of Charity Sisters.\nBenediction
URL:https://holyrosary.ca/event/lenten-series-2023-st-mother-teresa-of-calculta/
LOCATION:Holy Rosary Parish Hall\, 356 St. Clair Ave. West\, Toronto\, Ontario\, M5P 1N4\, Canada
CATEGORIES:Formation
END:VEVENT
END:VCALENDAR