BEGIN:VCALENDAR
VERSION:2.0
PRODID:-//Holy Rosary Parish - ECPv6.15.20//NONSGML v1.0//EN
CALSCALE:GREGORIAN
METHOD:PUBLISH
X-WR-CALNAME:Holy Rosary Parish
X-ORIGINAL-URL:https://holyrosary.ca
X-WR-CALDESC:Events for Holy Rosary Parish
REFRESH-INTERVAL;VALUE=DURATION:PT1H
X-Robots-Tag:noindex
X-PUBLISHED-TTL:PT1H
BEGIN:VTIMEZONE
TZID:America/Toronto
BEGIN:DAYLIGHT
TZOFFSETFROM:-0500
TZOFFSETTO:-0400
TZNAME:EDT
DTSTART:20210314T070000
END:DAYLIGHT
BEGIN:STANDARD
TZOFFSETFROM:-0400
TZOFFSETTO:-0500
TZNAME:EST
DTSTART:20211107T060000
END:STANDARD
BEGIN:DAYLIGHT
TZOFFSETFROM:-0500
TZOFFSETTO:-0400
TZNAME:EDT
DTSTART:20220313T070000
END:DAYLIGHT
BEGIN:STANDARD
TZOFFSETFROM:-0400
TZOFFSETTO:-0500
TZNAME:EST
DTSTART:20221106T060000
END:STANDARD
BEGIN:DAYLIGHT
TZOFFSETFROM:-0500
TZOFFSETTO:-0400
TZNAME:EDT
DTSTART:20230312T070000
END:DAYLIGHT
BEGIN:STANDARD
TZOFFSETFROM:-0400
TZOFFSETTO:-0500
TZNAME:EST
DTSTART:20231105T060000
END:STANDARD
END:VTIMEZONE
BEGIN:VEVENT
DTSTART;TZID=America/Toronto:20220607T190000
DTEND;TZID=America/Toronto:20220607T201500
DTSTAMP:20260420T072517
CREATED:20220401T155343Z
LAST-MODIFIED:20220401T155343Z
UID:10000280-1654628400-1654632900@holyrosary.ca
SUMMARY:The Search Series - Spring/Summer\, 2022
DESCRIPTION:Following the success of our first round of The Search Lenten Series\, we're excited to launch our Spring/Summer series for 2022. \nJoin us virtually for 7 weeks\, as we watch The Search provided by the Augustine Institute via Formed.org then discuss in small groups what our faith means to us. \nIt is a great opportunity to connect and share our experiences of being a disciple of Jesus with our fellow Christians and Parishioners. Register by email. \nWatch the trailer below: \n﻿ \n 
URL:https://holyrosary.ca/event/the-search-series-spring-summer-2022/2022-06-07/
LOCATION:Online\, Ontario\, Canada
END:VEVENT
BEGIN:VEVENT
DTSTART;TZID=America/Toronto:20220612T130000
DTEND;TZID=America/Toronto:20220612T150000
DTSTAMP:20260420T072517
CREATED:20220528T004841Z
LAST-MODIFIED:20220528T004841Z
UID:10000341-1655038800-1655046000@holyrosary.ca
SUMMARY:Holy Rosary's Welcome to Summer Celebration
DESCRIPTION:Join us for our first Parish-wide\, in-person\, social\nevent at Holy Rosary Parish in well over 2 years. \nMark your calendars for Sunday June 12 at 1 PM. in the Parish Hall.
URL:https://holyrosary.ca/event/holy-rosarys-welcome-to-summer-celebration/
LOCATION:Holy Rosary Parish Hall\, 356 St. Clair Ave. West\, Toronto\, Ontario\, M5P 1N4\, Canada
CATEGORIES:Community
END:VEVENT
END:VCALENDAR