BEGIN:VCALENDAR
VERSION:2.0
PRODID:-//Holy Rosary Parish - ECPv6.15.20//NONSGML v1.0//EN
CALSCALE:GREGORIAN
METHOD:PUBLISH
X-WR-CALNAME:Holy Rosary Parish
X-ORIGINAL-URL:https://holyrosary.ca
X-WR-CALDESC:Events for Holy Rosary Parish
REFRESH-INTERVAL;VALUE=DURATION:PT1H
X-Robots-Tag:noindex
X-PUBLISHED-TTL:PT1H
BEGIN:VTIMEZONE
TZID:America/Toronto
BEGIN:DAYLIGHT
TZOFFSETFROM:-0500
TZOFFSETTO:-0400
TZNAME:EDT
DTSTART:20240310T070000
END:DAYLIGHT
BEGIN:STANDARD
TZOFFSETFROM:-0400
TZOFFSETTO:-0500
TZNAME:EST
DTSTART:20241103T060000
END:STANDARD
BEGIN:DAYLIGHT
TZOFFSETFROM:-0500
TZOFFSETTO:-0400
TZNAME:EDT
DTSTART:20250309T070000
END:DAYLIGHT
BEGIN:STANDARD
TZOFFSETFROM:-0400
TZOFFSETTO:-0500
TZNAME:EST
DTSTART:20251102T060000
END:STANDARD
BEGIN:DAYLIGHT
TZOFFSETFROM:-0500
TZOFFSETTO:-0400
TZNAME:EDT
DTSTART:20260308T070000
END:DAYLIGHT
BEGIN:STANDARD
TZOFFSETFROM:-0400
TZOFFSETTO:-0500
TZNAME:EST
DTSTART:20261101T060000
END:STANDARD
END:VTIMEZONE
BEGIN:VEVENT
DTSTART;TZID=America/Toronto:20250601T130000
DTEND;TZID=America/Toronto:20250601T143000
DTSTAMP:20260422T174151
CREATED:20221222T155555Z
LAST-MODIFIED:20221222T160214Z
UID:10000426-1748782800-1748788200@holyrosary.ca
SUMMARY:Community Coffee
DESCRIPTION:Join us for the first Sunday of every month after the 12PM Mass in the Parish Hall for Community Coffee. \nIt's a great opportunity to meet your fellow Parishioners and help us foster a stronger parish community. We look forward to seeing you every Sunday. \nGoogle Business Update
URL:https://holyrosary.ca/event/community-coffee-2/2025-06-01/
LOCATION:Holy Rosary Parish Hall\, 356 St. Clair Ave. West\, Toronto\, Ontario\, M5P 1N4\, Canada
CATEGORIES:Community
ATTACH;FMTTYPE=image/jpeg:https://holyrosary.ca/wp-content/uploads/2022/05/t-steele-x-mIAFbAL-o-unsplash-scaled-e1651594836363.jpg
END:VEVENT
BEGIN:VEVENT
DTSTART;TZID=America/Toronto:20250605T190000
DTEND;TZID=America/Toronto:20250605T210000
DTSTAMP:20260422T174152
CREATED:20250412T162809Z
LAST-MODIFIED:20250412T162809Z
UID:10000631-1749150000-1749157200@holyrosary.ca
SUMMARY:What God Does to Us in Prayer
DESCRIPTION:Join us learn more about what God Does to us in prayer with this Faith Formation series. \nJune 5\, 19 and 26th\, 2025 \nParish Hall\, Room 2 at 7 PM. \nNo registration is required\, but attendance in all three classes is necessary. \n 
URL:https://holyrosary.ca/event/what-god-does-to-us-in-prayer/2025-06-05/
LOCATION:Holy Rosary Parish Hall\, 356 St. Clair Ave. West\, Toronto\, Ontario\, M5P 1N4\, Canada
CATEGORIES:Formation
END:VEVENT
BEGIN:VEVENT
DTSTART;TZID=America/Toronto:20250606T120000
DTEND;TZID=America/Toronto:20250606T150000
DTSTAMP:20260422T174152
CREATED:20241203T200934Z
LAST-MODIFIED:20241214T192458Z
UID:10000538-1749211200-1749222000@holyrosary.ca
SUMMARY:First Friday Devotions
DESCRIPTION:We invite you to join us every first Friday of the Month. \nMass 12.10 p.m. \nExposition of the Blessed Sacrament with devotions until 3 p.m.   \nCultivate more inner peace by spending time with our Lord Jesus Christ.
URL:https://holyrosary.ca/event/first-friday-devotions/2025-06-06/
LOCATION:Holy Rosary Parish Hall\, 356 St. Clair Ave. West\, Toronto\, Ontario\, M5P 1N4\, Canada
CATEGORIES:First Friday Devotions
END:VEVENT
BEGIN:VEVENT
DTSTART;TZID=America/Toronto:20250607T083000
DTEND;TZID=America/Toronto:20250607T103000
DTSTAMP:20260422T174152
CREATED:20240106T201212Z
LAST-MODIFIED:20241214T192048Z
UID:10000477-1749285000-1749292200@holyrosary.ca
SUMMARY:First Saturday Devotions
DESCRIPTION:Join us in honouring The Virgin Mary's request for First Saturday Devotions to Her Immaculate Heart. \nRosary at 8:30 a.m. with Veneration of relics of St. Jacinta & Francisco Marto. \nMass at 9:00 a.m. \nEucharistic Adoration with Fatima Prayers: 9:30 to 10:00 a.m.
URL:https://holyrosary.ca/event/first-saturday-devotions-2/2025-06-07/
LOCATION:Holy Rosary Parish\, 354 St Clair Avenue West\, Toronto\, Ontario\, M5P 1N4\, Canada
CATEGORIES:First Saturday Devotions
END:VEVENT
BEGIN:VEVENT
DTSTART;TZID=America/Toronto:20250608T130000
DTEND;TZID=America/Toronto:20250608T150000
DTSTAMP:20260422T174152
CREATED:20250503T185430Z
LAST-MODIFIED:20250503T185430Z
UID:10000636-1749387600-1749394800@holyrosary.ca
SUMMARY:Pentecost Party 2025
DESCRIPTION:Join us for the birthday of the Church on Sunday\, June 8\, 2025. \n1-3 PM behind the Parish Hall\, after the 12 PM Mass.
URL:https://holyrosary.ca/event/pentecost-party-2025/
LOCATION:Holy Rosary Parish Hall\, 356 St. Clair Ave. West\, Toronto\, Ontario\, M5P 1N4\, Canada
CATEGORIES:Community
END:VEVENT
BEGIN:VEVENT
DTSTART;TZID=America/Toronto:20250611T190000
DTEND;TZID=America/Toronto:20250611T203000
DTSTAMP:20260422T174152
CREATED:20250215T185828Z
LAST-MODIFIED:20250215T185952Z
UID:10000624-1749668400-1749673800@holyrosary.ca
SUMMARY:Alpha Series - Spring 2025
DESCRIPTION:Alpha is back at Holy Rosary Parish\, Toronto. \nHere is your opportunity to discuss our faith with people just like yourself. Available to everybody 18+. \n \nConnect with your fellow Parishioners\, over refreshments and get ready to explore our faith further. \nPlanned schedule for this season's Alpha series:\nBeginning Wednesday\, March 12th at 7PM (No Classes: May 14\, 21 and June 4). Last class Wednesday\, June 11th. \nThe Alpha series is FREE to attend\, but registration is essential. \nRegister via Eventbrite.
URL:https://holyrosary.ca/event/alpha-series-spring-2025/2025-06-11/
LOCATION:Ontario
CATEGORIES:Alpha,Formation
ORGANIZER;CN="Formation Ministry":MAILTO:formation@holyrosary.ca
END:VEVENT
BEGIN:VEVENT
DTSTART;TZID=America/Toronto:20250619T190000
DTEND;TZID=America/Toronto:20250619T210000
DTSTAMP:20260422T174152
CREATED:20250412T162809Z
LAST-MODIFIED:20250412T162809Z
UID:10000632-1750359600-1750366800@holyrosary.ca
SUMMARY:What God Does to Us in Prayer
DESCRIPTION:Join us learn more about what God Does to us in prayer with this Faith Formation series. \nJune 5\, 19 and 26th\, 2025 \nParish Hall\, Room 2 at 7 PM. \nNo registration is required\, but attendance in all three classes is necessary. \n 
URL:https://holyrosary.ca/event/what-god-does-to-us-in-prayer/2025-06-19/
LOCATION:Holy Rosary Parish Hall\, 356 St. Clair Ave. West\, Toronto\, Ontario\, M5P 1N4\, Canada
CATEGORIES:Formation
END:VEVENT
BEGIN:VEVENT
DTSTART;TZID=America/Toronto:20250626T190000
DTEND;TZID=America/Toronto:20250626T210000
DTSTAMP:20260422T174152
CREATED:20250412T162809Z
LAST-MODIFIED:20250412T162809Z
UID:10000633-1750964400-1750971600@holyrosary.ca
SUMMARY:What God Does to Us in Prayer
DESCRIPTION:Join us learn more about what God Does to us in prayer with this Faith Formation series. \nJune 5\, 19 and 26th\, 2025 \nParish Hall\, Room 2 at 7 PM. \nNo registration is required\, but attendance in all three classes is necessary. \n 
URL:https://holyrosary.ca/event/what-god-does-to-us-in-prayer/2025-06-26/
LOCATION:Holy Rosary Parish Hall\, 356 St. Clair Ave. West\, Toronto\, Ontario\, M5P 1N4\, Canada
CATEGORIES:Formation
END:VEVENT
END:VCALENDAR