BEGIN:VCALENDAR
VERSION:2.0
PRODID:-//Holy Rosary Parish - ECPv6.15.20//NONSGML v1.0//EN
CALSCALE:GREGORIAN
METHOD:PUBLISH
X-WR-CALNAME:Holy Rosary Parish
X-ORIGINAL-URL:https://holyrosary.ca
X-WR-CALDESC:Events for Holy Rosary Parish
REFRESH-INTERVAL;VALUE=DURATION:PT1H
X-Robots-Tag:noindex
X-PUBLISHED-TTL:PT1H
BEGIN:VTIMEZONE
TZID:America/Toronto
BEGIN:DAYLIGHT
TZOFFSETFROM:-0500
TZOFFSETTO:-0400
TZNAME:EDT
DTSTART:20250309T070000
END:DAYLIGHT
BEGIN:STANDARD
TZOFFSETFROM:-0400
TZOFFSETTO:-0500
TZNAME:EST
DTSTART:20251102T060000
END:STANDARD
BEGIN:DAYLIGHT
TZOFFSETFROM:-0500
TZOFFSETTO:-0400
TZNAME:EDT
DTSTART:20260308T070000
END:DAYLIGHT
BEGIN:STANDARD
TZOFFSETFROM:-0400
TZOFFSETTO:-0500
TZNAME:EST
DTSTART:20261101T060000
END:STANDARD
BEGIN:DAYLIGHT
TZOFFSETFROM:-0500
TZOFFSETTO:-0400
TZNAME:EDT
DTSTART:20270314T070000
END:DAYLIGHT
BEGIN:STANDARD
TZOFFSETFROM:-0400
TZOFFSETTO:-0500
TZNAME:EST
DTSTART:20271107T060000
END:STANDARD
END:VTIMEZONE
BEGIN:VEVENT
DTSTART;TZID=America/Toronto:20260609T190000
DTEND;TZID=America/Toronto:20260609T203000
DTSTAMP:20260422T202105
CREATED:20260420T145315Z
LAST-MODIFIED:20260420T145507Z
UID:10000891-1781031600-1781037000@holyrosary.ca
SUMMARY:Talk on St. Therese
DESCRIPTION:Fr. Peter will be giving talks on the spirituality of St. Therese of Lisieux\, on three Tuesdays in a row: May 26\, June 2\, and June 9. 7pm in the Parish Hall. Come learn about the way of Spiritual Childhood.
URL:https://holyrosary.ca/event/talk-on-st-therese/2026-06-09/
LOCATION:Holy Rosary Parish Hall\, 356 St. Clair Ave. West\, Toronto\, Ontario\, M5P 1N4\, Canada
ORGANIZER;CN="Formation Ministry":MAILTO:formation@holyrosary.ca
END:VEVENT
BEGIN:VEVENT
DTSTART;TZID=America/Toronto:20260611T190000
DTEND;TZID=America/Toronto:20260611T203000
DTSTAMP:20260422T202105
CREATED:20260420T144440Z
LAST-MODIFIED:20260420T144440Z
UID:10000880-1781204400-1781209800@holyrosary.ca
SUMMARY:Post-Cana: Marriage Enrichment Workshop
DESCRIPTION:How can we maintain the joy and love of Christ between spouses\, long after the wedding day? Deacon Kevin and his wife Gigetta will lead a Marriage Enrichment Workshop from June 2026 to January 2027\, every 2nd Thursday of the month (no meetings in July & August)\, from 7:00 to 8:15pm in the Parish Hall.
URL:https://holyrosary.ca/event/post-cana-marriage-enrichment-workshop/
LOCATION:Holy Rosary Parish Hall\, 356 St. Clair Ave. West\, Toronto\, Ontario\, M5P 1N4\, Canada
END:VEVENT
BEGIN:VEVENT
DTSTART;TZID=America/Toronto:20260612T120000
DTEND;TZID=America/Toronto:20260612T190000
DTSTAMP:20260422T202105
CREATED:20260420T144806Z
LAST-MODIFIED:20260420T144806Z
UID:10000886-1781265600-1781290800@holyrosary.ca
SUMMARY:Sacred Heart of Jesus
DESCRIPTION:Join us for Solemn Mass (12:10pm & 7:00pm) and Adoration from 1:00pm to 6:45pm to celebrate the beautiful Solemnity of the Sacred Heart of Jesus.
URL:https://holyrosary.ca/event/sacred-heart-of-jesus/
LOCATION:Holy Rosary Parish\, 354 St Clair Avenue West\, Toronto\, Ontario\, M5P 1N4\, Canada
ORGANIZER;CN="Formation Ministry":MAILTO:formation@holyrosary.ca
END:VEVENT
BEGIN:VEVENT
DTSTART;TZID=America/Toronto:20260701T113000
DTEND;TZID=America/Toronto:20260701T140000
DTSTAMP:20260422T202105
CREATED:20260331T134510Z
LAST-MODIFIED:20260331T134510Z
UID:10000819-1782905400-1782914400@holyrosary.ca
SUMMARY:St. Joseph Devotion
DESCRIPTION:Every 1st Wednesday of the Month\, we will be uniting ourselves to St. Joseph. Please see poster for times.
URL:https://holyrosary.ca/event/st-joseph-devotion/2026-07-01/
LOCATION:Holy Rosary Parish\, 354 St Clair Avenue West\, Toronto\, Ontario\, M5P 1N4\, Canada
ORGANIZER;CN="Formation Ministry":MAILTO:formation@holyrosary.ca
END:VEVENT
BEGIN:VEVENT
DTSTART;TZID=America/Toronto:20260703T120000
DTEND;TZID=America/Toronto:20260703T150000
DTSTAMP:20260422T202105
CREATED:20241203T200934Z
LAST-MODIFIED:20241214T192458Z
UID:10000551-1783080000-1783090800@holyrosary.ca
SUMMARY:First Friday Devotions
DESCRIPTION:We invite you to join us every first Friday of the Month. \nMass 12.10 p.m. \nExposition of the Blessed Sacrament with devotions until 3 p.m.   \nCultivate more inner peace by spending time with our Lord Jesus Christ.
URL:https://holyrosary.ca/event/first-friday-devotions/2026-07-03/
LOCATION:Holy Rosary Parish Hall\, 356 St. Clair Ave. West\, Toronto\, Ontario\, M5P 1N4\, Canada
CATEGORIES:First Friday Devotions
END:VEVENT
BEGIN:VEVENT
DTSTART;TZID=America/Toronto:20260704T083000
DTEND;TZID=America/Toronto:20260704T103000
DTSTAMP:20260422T202105
CREATED:20240106T201212Z
LAST-MODIFIED:20241214T192048Z
UID:10000490-1783153800-1783161000@holyrosary.ca
SUMMARY:First Saturday Devotions
DESCRIPTION:Join us in honouring The Virgin Mary's request for First Saturday Devotions to Her Immaculate Heart. \nRosary at 8:30 a.m. with Veneration of relics of St. Jacinta & Francisco Marto. \nMass at 9:00 a.m. \nEucharistic Adoration with Fatima Prayers: 9:30 to 10:00 a.m.
URL:https://holyrosary.ca/event/first-saturday-devotions-2/2026-07-04/
LOCATION:Holy Rosary Parish\, 354 St Clair Avenue West\, Toronto\, Ontario\, M5P 1N4\, Canada
CATEGORIES:First Saturday Devotions
END:VEVENT
BEGIN:VEVENT
DTSTART;TZID=America/Toronto:20260708T190000
DTEND;TZID=America/Toronto:20260708T203000
DTSTAMP:20260422T202105
CREATED:20260420T144136Z
LAST-MODIFIED:20260420T144136Z
UID:10000876-1783537200-1783542600@holyrosary.ca
SUMMARY:Bible Study: Gospel According to John
DESCRIPTION:Fr. Peter will take us through the Gospel of John on four consecutive Wednesdays. Join us starting on July 8th\, at 7pm in the Parish Hall.
URL:https://holyrosary.ca/event/bible-study-gospel-according-to-john/2026-07-08/
LOCATION:Holy Rosary Parish Hall\, 356 St. Clair Ave. West\, Toronto\, Ontario\, M5P 1N4\, Canada
ORGANIZER;CN="Formation Ministry":MAILTO:formation@holyrosary.ca
END:VEVENT
BEGIN:VEVENT
DTSTART;TZID=America/Toronto:20260715T190000
DTEND;TZID=America/Toronto:20260715T203000
DTSTAMP:20260422T202105
CREATED:20260420T144136Z
LAST-MODIFIED:20260420T144136Z
UID:10000877-1784142000-1784147400@holyrosary.ca
SUMMARY:Bible Study: Gospel According to John
DESCRIPTION:Fr. Peter will take us through the Gospel of John on four consecutive Wednesdays. Join us starting on July 8th\, at 7pm in the Parish Hall.
URL:https://holyrosary.ca/event/bible-study-gospel-according-to-john/2026-07-15/
LOCATION:Holy Rosary Parish Hall\, 356 St. Clair Ave. West\, Toronto\, Ontario\, M5P 1N4\, Canada
ORGANIZER;CN="Formation Ministry":MAILTO:formation@holyrosary.ca
END:VEVENT
BEGIN:VEVENT
DTSTART;TZID=America/Toronto:20260722T190000
DTEND;TZID=America/Toronto:20260722T203000
DTSTAMP:20260422T202105
CREATED:20260420T144136Z
LAST-MODIFIED:20260420T144136Z
UID:10000878-1784746800-1784752200@holyrosary.ca
SUMMARY:Bible Study: Gospel According to John
DESCRIPTION:Fr. Peter will take us through the Gospel of John on four consecutive Wednesdays. Join us starting on July 8th\, at 7pm in the Parish Hall.
URL:https://holyrosary.ca/event/bible-study-gospel-according-to-john/2026-07-22/
LOCATION:Holy Rosary Parish Hall\, 356 St. Clair Ave. West\, Toronto\, Ontario\, M5P 1N4\, Canada
ORGANIZER;CN="Formation Ministry":MAILTO:formation@holyrosary.ca
END:VEVENT
BEGIN:VEVENT
DTSTART;TZID=America/Toronto:20260729T190000
DTEND;TZID=America/Toronto:20260729T203000
DTSTAMP:20260422T202105
CREATED:20260420T144136Z
LAST-MODIFIED:20260420T144136Z
UID:10000879-1785351600-1785357000@holyrosary.ca
SUMMARY:Bible Study: Gospel According to John
DESCRIPTION:Fr. Peter will take us through the Gospel of John on four consecutive Wednesdays. Join us starting on July 8th\, at 7pm in the Parish Hall.
URL:https://holyrosary.ca/event/bible-study-gospel-according-to-john/2026-07-29/
LOCATION:Holy Rosary Parish Hall\, 356 St. Clair Ave. West\, Toronto\, Ontario\, M5P 1N4\, Canada
ORGANIZER;CN="Formation Ministry":MAILTO:formation@holyrosary.ca
END:VEVENT
BEGIN:VEVENT
DTSTART;TZID=America/Toronto:20260801T083000
DTEND;TZID=America/Toronto:20260801T103000
DTSTAMP:20260422T202105
CREATED:20240106T201212Z
LAST-MODIFIED:20241214T192048Z
UID:10000491-1785573000-1785580200@holyrosary.ca
SUMMARY:First Saturday Devotions
DESCRIPTION:Join us in honouring The Virgin Mary's request for First Saturday Devotions to Her Immaculate Heart. \nRosary at 8:30 a.m. with Veneration of relics of St. Jacinta & Francisco Marto. \nMass at 9:00 a.m. \nEucharistic Adoration with Fatima Prayers: 9:30 to 10:00 a.m.
URL:https://holyrosary.ca/event/first-saturday-devotions-2/2026-08-01/
LOCATION:Holy Rosary Parish\, 354 St Clair Avenue West\, Toronto\, Ontario\, M5P 1N4\, Canada
CATEGORIES:First Saturday Devotions
END:VEVENT
BEGIN:VEVENT
DTSTART;TZID=America/Toronto:20260805T113000
DTEND;TZID=America/Toronto:20260805T140000
DTSTAMP:20260422T202105
CREATED:20260331T134510Z
LAST-MODIFIED:20260331T134510Z
UID:10000820-1785929400-1785938400@holyrosary.ca
SUMMARY:St. Joseph Devotion
DESCRIPTION:Every 1st Wednesday of the Month\, we will be uniting ourselves to St. Joseph. Please see poster for times.
URL:https://holyrosary.ca/event/st-joseph-devotion/2026-08-05/
LOCATION:Holy Rosary Parish\, 354 St Clair Avenue West\, Toronto\, Ontario\, M5P 1N4\, Canada
ORGANIZER;CN="Formation Ministry":MAILTO:formation@holyrosary.ca
END:VEVENT
BEGIN:VEVENT
DTSTART;TZID=America/Toronto:20260807T120000
DTEND;TZID=America/Toronto:20260807T150000
DTSTAMP:20260422T202105
CREATED:20241203T200934Z
LAST-MODIFIED:20241214T192458Z
UID:10000552-1786104000-1786114800@holyrosary.ca
SUMMARY:First Friday Devotions
DESCRIPTION:We invite you to join us every first Friday of the Month. \nMass 12.10 p.m. \nExposition of the Blessed Sacrament with devotions until 3 p.m.   \nCultivate more inner peace by spending time with our Lord Jesus Christ.
URL:https://holyrosary.ca/event/first-friday-devotions/2026-08-07/
LOCATION:Holy Rosary Parish Hall\, 356 St. Clair Ave. West\, Toronto\, Ontario\, M5P 1N4\, Canada
CATEGORIES:First Friday Devotions
END:VEVENT
BEGIN:VEVENT
DTSTART;TZID=America/Toronto:20260902T113000
DTEND;TZID=America/Toronto:20260902T140000
DTSTAMP:20260422T202105
CREATED:20260331T134510Z
LAST-MODIFIED:20260331T134510Z
UID:10000821-1788348600-1788357600@holyrosary.ca
SUMMARY:St. Joseph Devotion
DESCRIPTION:Every 1st Wednesday of the Month\, we will be uniting ourselves to St. Joseph. Please see poster for times.
URL:https://holyrosary.ca/event/st-joseph-devotion/2026-09-02/
LOCATION:Holy Rosary Parish\, 354 St Clair Avenue West\, Toronto\, Ontario\, M5P 1N4\, Canada
ORGANIZER;CN="Formation Ministry":MAILTO:formation@holyrosary.ca
END:VEVENT
BEGIN:VEVENT
DTSTART;TZID=America/Toronto:20260904T120000
DTEND;TZID=America/Toronto:20260904T150000
DTSTAMP:20260422T202105
CREATED:20241203T200934Z
LAST-MODIFIED:20241214T192458Z
UID:10000553-1788523200-1788534000@holyrosary.ca
SUMMARY:First Friday Devotions
DESCRIPTION:We invite you to join us every first Friday of the Month. \nMass 12.10 p.m. \nExposition of the Blessed Sacrament with devotions until 3 p.m.   \nCultivate more inner peace by spending time with our Lord Jesus Christ.
URL:https://holyrosary.ca/event/first-friday-devotions/2026-09-04/
LOCATION:Holy Rosary Parish Hall\, 356 St. Clair Ave. West\, Toronto\, Ontario\, M5P 1N4\, Canada
CATEGORIES:First Friday Devotions
END:VEVENT
BEGIN:VEVENT
DTSTART;TZID=America/Toronto:20260905T083000
DTEND;TZID=America/Toronto:20260905T103000
DTSTAMP:20260422T202105
CREATED:20240106T201212Z
LAST-MODIFIED:20241214T192048Z
UID:10000492-1788597000-1788604200@holyrosary.ca
SUMMARY:First Saturday Devotions
DESCRIPTION:Join us in honouring The Virgin Mary's request for First Saturday Devotions to Her Immaculate Heart. \nRosary at 8:30 a.m. with Veneration of relics of St. Jacinta & Francisco Marto. \nMass at 9:00 a.m. \nEucharistic Adoration with Fatima Prayers: 9:30 to 10:00 a.m.
URL:https://holyrosary.ca/event/first-saturday-devotions-2/2026-09-05/
LOCATION:Holy Rosary Parish\, 354 St Clair Avenue West\, Toronto\, Ontario\, M5P 1N4\, Canada
CATEGORIES:First Saturday Devotions
END:VEVENT
BEGIN:VEVENT
DTSTART;TZID=America/Toronto:20260910T190000
DTEND;TZID=America/Toronto:20260910T203000
DTSTAMP:20260422T202105
CREATED:20260420T144603Z
LAST-MODIFIED:20260420T144603Z
UID:10000881-1789066800-1789072200@holyrosary.ca
SUMMARY:Post-Cana: Marriage Enrichment Workshop
DESCRIPTION:How can we maintain the joy and love of Christ between spouses\, long after the wedding day? Deacon Kevin and his wife Gigetta will lead a Marriage Enrichment Workshop from June 2026 to January 2027\, every 2nd Thursday of the month (no meetings in July & August)\, from 7:00 to 8:15pm in the Parish Hall.
URL:https://holyrosary.ca/event/post-cana-marriage-enrichment-workshop-2/2026-09-10/
LOCATION:Holy Rosary Parish Hall\, 356 St. Clair Ave. West\, Toronto\, Ontario\, M5P 1N4\, Canada
END:VEVENT
BEGIN:VEVENT
DTSTART;TZID=America/Toronto:20261002T120000
DTEND;TZID=America/Toronto:20261002T150000
DTSTAMP:20260422T202105
CREATED:20241203T200934Z
LAST-MODIFIED:20241214T192458Z
UID:10000554-1790942400-1790953200@holyrosary.ca
SUMMARY:First Friday Devotions
DESCRIPTION:We invite you to join us every first Friday of the Month. \nMass 12.10 p.m. \nExposition of the Blessed Sacrament with devotions until 3 p.m.   \nCultivate more inner peace by spending time with our Lord Jesus Christ.
URL:https://holyrosary.ca/event/first-friday-devotions/2026-10-02/
LOCATION:Holy Rosary Parish Hall\, 356 St. Clair Ave. West\, Toronto\, Ontario\, M5P 1N4\, Canada
CATEGORIES:First Friday Devotions
END:VEVENT
BEGIN:VEVENT
DTSTART;TZID=America/Toronto:20261003T083000
DTEND;TZID=America/Toronto:20261003T103000
DTSTAMP:20260422T202105
CREATED:20240106T201212Z
LAST-MODIFIED:20241214T192048Z
UID:10000493-1791016200-1791023400@holyrosary.ca
SUMMARY:First Saturday Devotions
DESCRIPTION:Join us in honouring The Virgin Mary's request for First Saturday Devotions to Her Immaculate Heart. \nRosary at 8:30 a.m. with Veneration of relics of St. Jacinta & Francisco Marto. \nMass at 9:00 a.m. \nEucharistic Adoration with Fatima Prayers: 9:30 to 10:00 a.m.
URL:https://holyrosary.ca/event/first-saturday-devotions-2/2026-10-03/
LOCATION:Holy Rosary Parish\, 354 St Clair Avenue West\, Toronto\, Ontario\, M5P 1N4\, Canada
CATEGORIES:First Saturday Devotions
END:VEVENT
BEGIN:VEVENT
DTSTART;TZID=America/Toronto:20261004T130000
DTEND;TZID=America/Toronto:20261004T143000
DTSTAMP:20260422T202105
CREATED:20221222T155555Z
LAST-MODIFIED:20221222T160214Z
UID:10000442-1791118800-1791124200@holyrosary.ca
SUMMARY:Community Coffee
DESCRIPTION:Join us for the first Sunday of every month after the 12PM Mass in the Parish Hall for Community Coffee. \nIt's a great opportunity to meet your fellow Parishioners and help us foster a stronger parish community. We look forward to seeing you every Sunday. \nGoogle Business Update
URL:https://holyrosary.ca/event/community-coffee-2/2026-10-04/
LOCATION:Holy Rosary Parish Hall\, 356 St. Clair Ave. West\, Toronto\, Ontario\, M5P 1N4\, Canada
CATEGORIES:Community
ATTACH;FMTTYPE=image/jpeg:https://holyrosary.ca/wp-content/uploads/2022/05/t-steele-x-mIAFbAL-o-unsplash-scaled-e1651594836363.jpg
END:VEVENT
BEGIN:VEVENT
DTSTART;TZID=America/Toronto:20261007T113000
DTEND;TZID=America/Toronto:20261007T140000
DTSTAMP:20260422T202105
CREATED:20260331T134510Z
LAST-MODIFIED:20260331T134510Z
UID:10000822-1791372600-1791381600@holyrosary.ca
SUMMARY:St. Joseph Devotion
DESCRIPTION:Every 1st Wednesday of the Month\, we will be uniting ourselves to St. Joseph. Please see poster for times.
URL:https://holyrosary.ca/event/st-joseph-devotion/2026-10-07/
LOCATION:Holy Rosary Parish\, 354 St Clair Avenue West\, Toronto\, Ontario\, M5P 1N4\, Canada
ORGANIZER;CN="Formation Ministry":MAILTO:formation@holyrosary.ca
END:VEVENT
BEGIN:VEVENT
DTSTART;TZID=America/Toronto:20261008T190000
DTEND;TZID=America/Toronto:20261008T203000
DTSTAMP:20260422T202105
CREATED:20260420T144603Z
LAST-MODIFIED:20260420T144603Z
UID:10000882-1791486000-1791491400@holyrosary.ca
SUMMARY:Post-Cana: Marriage Enrichment Workshop
DESCRIPTION:How can we maintain the joy and love of Christ between spouses\, long after the wedding day? Deacon Kevin and his wife Gigetta will lead a Marriage Enrichment Workshop from June 2026 to January 2027\, every 2nd Thursday of the month (no meetings in July & August)\, from 7:00 to 8:15pm in the Parish Hall.
URL:https://holyrosary.ca/event/post-cana-marriage-enrichment-workshop-2/2026-10-08/
LOCATION:Holy Rosary Parish Hall\, 356 St. Clair Ave. West\, Toronto\, Ontario\, M5P 1N4\, Canada
END:VEVENT
BEGIN:VEVENT
DTSTART;TZID=America/Toronto:20261101T130000
DTEND;TZID=America/Toronto:20261101T143000
DTSTAMP:20260422T202105
CREATED:20221222T155555Z
LAST-MODIFIED:20221222T160214Z
UID:10000443-1793538000-1793543400@holyrosary.ca
SUMMARY:Community Coffee
DESCRIPTION:Join us for the first Sunday of every month after the 12PM Mass in the Parish Hall for Community Coffee. \nIt's a great opportunity to meet your fellow Parishioners and help us foster a stronger parish community. We look forward to seeing you every Sunday. \nGoogle Business Update
URL:https://holyrosary.ca/event/community-coffee-2/2026-11-01/
LOCATION:Holy Rosary Parish Hall\, 356 St. Clair Ave. West\, Toronto\, Ontario\, M5P 1N4\, Canada
CATEGORIES:Community
ATTACH;FMTTYPE=image/jpeg:https://holyrosary.ca/wp-content/uploads/2022/05/t-steele-x-mIAFbAL-o-unsplash-scaled-e1651594836363.jpg
END:VEVENT
BEGIN:VEVENT
DTSTART;TZID=America/Toronto:20261104T113000
DTEND;TZID=America/Toronto:20261104T140000
DTSTAMP:20260422T202105
CREATED:20260331T134510Z
LAST-MODIFIED:20260331T134510Z
UID:10000823-1793791800-1793800800@holyrosary.ca
SUMMARY:St. Joseph Devotion
DESCRIPTION:Every 1st Wednesday of the Month\, we will be uniting ourselves to St. Joseph. Please see poster for times.
URL:https://holyrosary.ca/event/st-joseph-devotion/2026-11-04/
LOCATION:Holy Rosary Parish\, 354 St Clair Avenue West\, Toronto\, Ontario\, M5P 1N4\, Canada
ORGANIZER;CN="Formation Ministry":MAILTO:formation@holyrosary.ca
END:VEVENT
BEGIN:VEVENT
DTSTART;TZID=America/Toronto:20261106T120000
DTEND;TZID=America/Toronto:20261106T150000
DTSTAMP:20260422T202105
CREATED:20241203T200934Z
LAST-MODIFIED:20241214T192458Z
UID:10000555-1793966400-1793977200@holyrosary.ca
SUMMARY:First Friday Devotions
DESCRIPTION:We invite you to join us every first Friday of the Month. \nMass 12.10 p.m. \nExposition of the Blessed Sacrament with devotions until 3 p.m.   \nCultivate more inner peace by spending time with our Lord Jesus Christ.
URL:https://holyrosary.ca/event/first-friday-devotions/2026-11-06/
LOCATION:Holy Rosary Parish Hall\, 356 St. Clair Ave. West\, Toronto\, Ontario\, M5P 1N4\, Canada
CATEGORIES:First Friday Devotions
END:VEVENT
BEGIN:VEVENT
DTSTART;TZID=America/Toronto:20261107T083000
DTEND;TZID=America/Toronto:20261107T103000
DTSTAMP:20260422T202105
CREATED:20240106T201212Z
LAST-MODIFIED:20241214T192048Z
UID:10000494-1794040200-1794047400@holyrosary.ca
SUMMARY:First Saturday Devotions
DESCRIPTION:Join us in honouring The Virgin Mary's request for First Saturday Devotions to Her Immaculate Heart. \nRosary at 8:30 a.m. with Veneration of relics of St. Jacinta & Francisco Marto. \nMass at 9:00 a.m. \nEucharistic Adoration with Fatima Prayers: 9:30 to 10:00 a.m.
URL:https://holyrosary.ca/event/first-saturday-devotions-2/2026-11-07/
LOCATION:Holy Rosary Parish\, 354 St Clair Avenue West\, Toronto\, Ontario\, M5P 1N4\, Canada
CATEGORIES:First Saturday Devotions
END:VEVENT
BEGIN:VEVENT
DTSTART;TZID=America/Toronto:20261112T190000
DTEND;TZID=America/Toronto:20261112T203000
DTSTAMP:20260422T202105
CREATED:20260420T144603Z
LAST-MODIFIED:20260420T144603Z
UID:10000883-1794510000-1794515400@holyrosary.ca
SUMMARY:Post-Cana: Marriage Enrichment Workshop
DESCRIPTION:How can we maintain the joy and love of Christ between spouses\, long after the wedding day? Deacon Kevin and his wife Gigetta will lead a Marriage Enrichment Workshop from June 2026 to January 2027\, every 2nd Thursday of the month (no meetings in July & August)\, from 7:00 to 8:15pm in the Parish Hall.
URL:https://holyrosary.ca/event/post-cana-marriage-enrichment-workshop-2/2026-11-12/
LOCATION:Holy Rosary Parish Hall\, 356 St. Clair Ave. West\, Toronto\, Ontario\, M5P 1N4\, Canada
END:VEVENT
BEGIN:VEVENT
DTSTART;TZID=America/Toronto:20261202T113000
DTEND;TZID=America/Toronto:20261202T140000
DTSTAMP:20260422T202105
CREATED:20260331T134510Z
LAST-MODIFIED:20260331T134510Z
UID:10000824-1796211000-1796220000@holyrosary.ca
SUMMARY:St. Joseph Devotion
DESCRIPTION:Every 1st Wednesday of the Month\, we will be uniting ourselves to St. Joseph. Please see poster for times.
URL:https://holyrosary.ca/event/st-joseph-devotion/2026-12-02/
LOCATION:Holy Rosary Parish\, 354 St Clair Avenue West\, Toronto\, Ontario\, M5P 1N4\, Canada
ORGANIZER;CN="Formation Ministry":MAILTO:formation@holyrosary.ca
END:VEVENT
BEGIN:VEVENT
DTSTART;TZID=America/Toronto:20261204T120000
DTEND;TZID=America/Toronto:20261204T150000
DTSTAMP:20260422T202105
CREATED:20241203T200934Z
LAST-MODIFIED:20241214T192458Z
UID:10000556-1796385600-1796396400@holyrosary.ca
SUMMARY:First Friday Devotions
DESCRIPTION:We invite you to join us every first Friday of the Month. \nMass 12.10 p.m. \nExposition of the Blessed Sacrament with devotions until 3 p.m.   \nCultivate more inner peace by spending time with our Lord Jesus Christ.
URL:https://holyrosary.ca/event/first-friday-devotions/2026-12-04/
LOCATION:Holy Rosary Parish Hall\, 356 St. Clair Ave. West\, Toronto\, Ontario\, M5P 1N4\, Canada
CATEGORIES:First Friday Devotions
END:VEVENT
BEGIN:VEVENT
DTSTART;TZID=America/Toronto:20261205T083000
DTEND;TZID=America/Toronto:20261205T103000
DTSTAMP:20260422T202105
CREATED:20240106T201212Z
LAST-MODIFIED:20241214T192048Z
UID:10000495-1796459400-1796466600@holyrosary.ca
SUMMARY:First Saturday Devotions
DESCRIPTION:Join us in honouring The Virgin Mary's request for First Saturday Devotions to Her Immaculate Heart. \nRosary at 8:30 a.m. with Veneration of relics of St. Jacinta & Francisco Marto. \nMass at 9:00 a.m. \nEucharistic Adoration with Fatima Prayers: 9:30 to 10:00 a.m.
URL:https://holyrosary.ca/event/first-saturday-devotions-2/2026-12-05/
LOCATION:Holy Rosary Parish\, 354 St Clair Avenue West\, Toronto\, Ontario\, M5P 1N4\, Canada
CATEGORIES:First Saturday Devotions
END:VEVENT
END:VCALENDAR