BEGIN:VCALENDAR
VERSION:2.0
PRODID:-//Holy Rosary Parish - ECPv6.15.20//NONSGML v1.0//EN
CALSCALE:GREGORIAN
METHOD:PUBLISH
X-WR-CALNAME:Holy Rosary Parish
X-ORIGINAL-URL:https://holyrosary.ca
X-WR-CALDESC:Events for Holy Rosary Parish
REFRESH-INTERVAL;VALUE=DURATION:PT1H
X-Robots-Tag:noindex
X-PUBLISHED-TTL:PT1H
BEGIN:VTIMEZONE
TZID:America/Toronto
BEGIN:DAYLIGHT
TZOFFSETFROM:-0500
TZOFFSETTO:-0400
TZNAME:EDT
DTSTART:20230312T070000
END:DAYLIGHT
BEGIN:STANDARD
TZOFFSETFROM:-0400
TZOFFSETTO:-0500
TZNAME:EST
DTSTART:20231105T060000
END:STANDARD
BEGIN:DAYLIGHT
TZOFFSETFROM:-0500
TZOFFSETTO:-0400
TZNAME:EDT
DTSTART:20240310T070000
END:DAYLIGHT
BEGIN:STANDARD
TZOFFSETFROM:-0400
TZOFFSETTO:-0500
TZNAME:EST
DTSTART:20241103T060000
END:STANDARD
BEGIN:DAYLIGHT
TZOFFSETFROM:-0500
TZOFFSETTO:-0400
TZNAME:EDT
DTSTART:20250309T070000
END:DAYLIGHT
BEGIN:STANDARD
TZOFFSETFROM:-0400
TZOFFSETTO:-0500
TZNAME:EST
DTSTART:20251102T060000
END:STANDARD
END:VTIMEZONE
BEGIN:VEVENT
DTSTART;TZID=America/Toronto:20241211T190000
DTEND;TZID=America/Toronto:20241211T210000
DTSTAMP:20260423T091308
CREATED:20241203T202137Z
LAST-MODIFIED:20241203T202235Z
UID:10000592-1733943600-1733950800@holyrosary.ca
SUMMARY:Advent Day of Confessions
DESCRIPTION:“So often\, our own sins and failings seem to be an obstacle in encountering the love of our Lord\, preventing us from taking the steps towards authentic and renewed conversion. Yet Jesus came not to call the righteous\, but sinners. He is the Good Shepherd who seeks out the lost\, the physician who comes to heal the sick. And one of his first acts after the Resurrection was to entrust to the Church the power to forgive sins in his name. Thus\, in order to undergo an authentic and renewed conversion\, and to encounter the Love of God\, a focus on the Sacrament of Reconciliation – this most powerful encounter with divine mercy – is essential.” -  Cardinal Thomas Collins. \nhttps://www.archtoronto.org/confession \n 
URL:https://holyrosary.ca/event/advent-day-of-confessions/
LOCATION:Ontario
CATEGORIES:Formation
END:VEVENT
END:VCALENDAR