BEGIN:VCALENDAR
VERSION:2.0
PRODID:-//Holy Rosary Parish - ECPv6.15.20//NONSGML v1.0//EN
CALSCALE:GREGORIAN
METHOD:PUBLISH
X-WR-CALNAME:Holy Rosary Parish
X-ORIGINAL-URL:https://holyrosary.ca
X-WR-CALDESC:Events for Holy Rosary Parish
REFRESH-INTERVAL;VALUE=DURATION:PT1H
X-Robots-Tag:noindex
X-PUBLISHED-TTL:PT1H
BEGIN:VTIMEZONE
TZID:America/Toronto
BEGIN:DAYLIGHT
TZOFFSETFROM:-0500
TZOFFSETTO:-0400
TZNAME:EDT
DTSTART:20210314T070000
END:DAYLIGHT
BEGIN:STANDARD
TZOFFSETFROM:-0400
TZOFFSETTO:-0500
TZNAME:EST
DTSTART:20211107T060000
END:STANDARD
BEGIN:DAYLIGHT
TZOFFSETFROM:-0500
TZOFFSETTO:-0400
TZNAME:EDT
DTSTART:20220313T070000
END:DAYLIGHT
BEGIN:STANDARD
TZOFFSETFROM:-0400
TZOFFSETTO:-0500
TZNAME:EST
DTSTART:20221106T060000
END:STANDARD
BEGIN:DAYLIGHT
TZOFFSETFROM:-0500
TZOFFSETTO:-0400
TZNAME:EDT
DTSTART:20230312T070000
END:DAYLIGHT
BEGIN:STANDARD
TZOFFSETFROM:-0400
TZOFFSETTO:-0500
TZNAME:EST
DTSTART:20231105T060000
END:STANDARD
BEGIN:DAYLIGHT
TZOFFSETFROM:-0500
TZOFFSETTO:-0400
TZNAME:EDT
DTSTART:20240310T070000
END:DAYLIGHT
BEGIN:STANDARD
TZOFFSETFROM:-0400
TZOFFSETTO:-0500
TZNAME:EST
DTSTART:20241103T060000
END:STANDARD
BEGIN:DAYLIGHT
TZOFFSETFROM:-0500
TZOFFSETTO:-0400
TZNAME:EDT
DTSTART:20250309T070000
END:DAYLIGHT
BEGIN:STANDARD
TZOFFSETFROM:-0400
TZOFFSETTO:-0500
TZNAME:EST
DTSTART:20251102T060000
END:STANDARD
END:VTIMEZONE
BEGIN:VEVENT
DTSTART;TZID=America/Toronto:20240803T083000
DTEND;TZID=America/Toronto:20240803T103000
DTSTAMP:20260419T181236
CREATED:20240106T201212Z
LAST-MODIFIED:20241214T192048Z
UID:10000245-1722673800-1722681000@holyrosary.ca
SUMMARY:First Saturday Devotions
DESCRIPTION:Join us in honouring The Virgin Mary's request for First Saturday Devotions to Her Immaculate Heart. \nRosary at 8:30 a.m. with Veneration of relics of St. Jacinta & Francisco Marto. \nMass at 9:00 a.m. \nEucharistic Adoration with Fatima Prayers: 9:30 to 10:00 a.m.
URL:https://holyrosary.ca/event/first-saturday-devotions-2/2024-08-03/
LOCATION:Holy Rosary Parish\, 354 St Clair Avenue West\, Toronto\, Ontario\, M5P 1N4\, Canada
CATEGORIES:First Saturday Devotions
END:VEVENT
BEGIN:VEVENT
DTSTART;TZID=America/Toronto:20240706T083000
DTEND;TZID=America/Toronto:20240706T103000
DTSTAMP:20260419T181236
CREATED:20240106T201212Z
LAST-MODIFIED:20241214T192048Z
UID:10000244-1720254600-1720261800@holyrosary.ca
SUMMARY:First Saturday Devotions
DESCRIPTION:Join us in honouring The Virgin Mary's request for First Saturday Devotions to Her Immaculate Heart. \nRosary at 8:30 a.m. with Veneration of relics of St. Jacinta & Francisco Marto. \nMass at 9:00 a.m. \nEucharistic Adoration with Fatima Prayers: 9:30 to 10:00 a.m.
URL:https://holyrosary.ca/event/first-saturday-devotions-2/2024-07-06/
LOCATION:Holy Rosary Parish\, 354 St Clair Avenue West\, Toronto\, Ontario\, M5P 1N4\, Canada
CATEGORIES:First Saturday Devotions
END:VEVENT
BEGIN:VEVENT
DTSTART;TZID=America/Toronto:20240601T083000
DTEND;TZID=America/Toronto:20240601T103000
DTSTAMP:20260419T181236
CREATED:20240106T201212Z
LAST-MODIFIED:20241214T192048Z
UID:10000243-1717230600-1717237800@holyrosary.ca
SUMMARY:First Saturday Devotions
DESCRIPTION:Join us in honouring The Virgin Mary's request for First Saturday Devotions to Her Immaculate Heart. \nRosary at 8:30 a.m. with Veneration of relics of St. Jacinta & Francisco Marto. \nMass at 9:00 a.m. \nEucharistic Adoration with Fatima Prayers: 9:30 to 10:00 a.m.
URL:https://holyrosary.ca/event/first-saturday-devotions-2/2024-06-01/
LOCATION:Holy Rosary Parish\, 354 St Clair Avenue West\, Toronto\, Ontario\, M5P 1N4\, Canada
CATEGORIES:First Saturday Devotions
END:VEVENT
BEGIN:VEVENT
DTSTART;TZID=America/Toronto:20240504T083000
DTEND;TZID=America/Toronto:20240504T103000
DTSTAMP:20260419T181236
CREATED:20240106T201212Z
LAST-MODIFIED:20241214T192048Z
UID:10000242-1714811400-1714818600@holyrosary.ca
SUMMARY:First Saturday Devotions
DESCRIPTION:Join us in honouring The Virgin Mary's request for First Saturday Devotions to Her Immaculate Heart. \nRosary at 8:30 a.m. with Veneration of relics of St. Jacinta & Francisco Marto. \nMass at 9:00 a.m. \nEucharistic Adoration with Fatima Prayers: 9:30 to 10:00 a.m.
URL:https://holyrosary.ca/event/first-saturday-devotions-2/2024-05-04/
LOCATION:Holy Rosary Parish\, 354 St Clair Avenue West\, Toronto\, Ontario\, M5P 1N4\, Canada
CATEGORIES:First Saturday Devotions
END:VEVENT
BEGIN:VEVENT
DTSTART;TZID=America/Toronto:20240406T083000
DTEND;TZID=America/Toronto:20240406T103000
DTSTAMP:20260419T181236
CREATED:20240106T201212Z
LAST-MODIFIED:20241214T192048Z
UID:10000241-1712392200-1712399400@holyrosary.ca
SUMMARY:First Saturday Devotions
DESCRIPTION:Join us in honouring The Virgin Mary's request for First Saturday Devotions to Her Immaculate Heart. \nRosary at 8:30 a.m. with Veneration of relics of St. Jacinta & Francisco Marto. \nMass at 9:00 a.m. \nEucharistic Adoration with Fatima Prayers: 9:30 to 10:00 a.m.
URL:https://holyrosary.ca/event/first-saturday-devotions-2/2024-04-06/
LOCATION:Holy Rosary Parish\, 354 St Clair Avenue West\, Toronto\, Ontario\, M5P 1N4\, Canada
CATEGORIES:First Saturday Devotions
END:VEVENT
BEGIN:VEVENT
DTSTART;TZID=America/Toronto:20240302T083000
DTEND;TZID=America/Toronto:20240302T103000
DTSTAMP:20260419T181236
CREATED:20240106T201212Z
LAST-MODIFIED:20241214T192048Z
UID:10000240-1709368200-1709375400@holyrosary.ca
SUMMARY:First Saturday Devotions
DESCRIPTION:Join us in honouring The Virgin Mary's request for First Saturday Devotions to Her Immaculate Heart. \nRosary at 8:30 a.m. with Veneration of relics of St. Jacinta & Francisco Marto. \nMass at 9:00 a.m. \nEucharistic Adoration with Fatima Prayers: 9:30 to 10:00 a.m.
URL:https://holyrosary.ca/event/first-saturday-devotions-2/2024-03-02/
LOCATION:Holy Rosary Parish\, 354 St Clair Avenue West\, Toronto\, Ontario\, M5P 1N4\, Canada
CATEGORIES:First Saturday Devotions
END:VEVENT
BEGIN:VEVENT
DTSTART;TZID=America/Toronto:20240203T083000
DTEND;TZID=America/Toronto:20240203T103000
DTSTAMP:20260419T181236
CREATED:20240106T201212Z
LAST-MODIFIED:20241214T192048Z
UID:10000239-1706949000-1706956200@holyrosary.ca
SUMMARY:First Saturday Devotions
DESCRIPTION:Join us in honouring The Virgin Mary's request for First Saturday Devotions to Her Immaculate Heart. \nRosary at 8:30 a.m. with Veneration of relics of St. Jacinta & Francisco Marto. \nMass at 9:00 a.m. \nEucharistic Adoration with Fatima Prayers: 9:30 to 10:00 a.m.
URL:https://holyrosary.ca/event/first-saturday-devotions-2/2024-02-03/
LOCATION:Holy Rosary Parish\, 354 St Clair Avenue West\, Toronto\, Ontario\, M5P 1N4\, Canada
CATEGORIES:First Saturday Devotions
END:VEVENT
BEGIN:VEVENT
DTSTART;TZID=America/Toronto:20240106T083000
DTEND;TZID=America/Toronto:20240106T103000
DTSTAMP:20260419T181236
CREATED:20220130T203655Z
LAST-MODIFIED:20220130T204029Z
UID:10000238-1704529800-1704537000@holyrosary.ca
SUMMARY:First Saturday Devotions
DESCRIPTION:Join us in honouring The Virgin Mary's request for First Saturday Devotion to Her Immaculate Heart. \nRosary at 8:30 am with Veneration of relics of St. Jacinta & Francisco Marto \nMass at 9:00 am \nAdoration with Fatima Prayers: 9:30 to 10:00 am \nLivestream available on by clicking below or directly on Youtube.
URL:https://holyrosary.ca/event/first-saturday-devotions/2024-01-06/
LOCATION:Holy Rosary Parish\, 354 St Clair Avenue West\, Toronto\, Ontario\, M5P 1N4\, Canada
CATEGORIES:First Saturday Devotions
END:VEVENT
BEGIN:VEVENT
DTSTART;TZID=America/Toronto:20231202T083000
DTEND;TZID=America/Toronto:20231202T103000
DTSTAMP:20260419T181236
CREATED:20220130T203655Z
LAST-MODIFIED:20220130T204029Z
UID:10000237-1701505800-1701513000@holyrosary.ca
SUMMARY:First Saturday Devotions
DESCRIPTION:Join us in honouring The Virgin Mary's request for First Saturday Devotion to Her Immaculate Heart. \nRosary at 8:30 am with Veneration of relics of St. Jacinta & Francisco Marto \nMass at 9:00 am \nAdoration with Fatima Prayers: 9:30 to 10:00 am \nLivestream available on by clicking below or directly on Youtube.
URL:https://holyrosary.ca/event/first-saturday-devotions/2023-12-02/
LOCATION:Holy Rosary Parish\, 354 St Clair Avenue West\, Toronto\, Ontario\, M5P 1N4\, Canada
CATEGORIES:First Saturday Devotions
END:VEVENT
BEGIN:VEVENT
DTSTART;TZID=America/Toronto:20231104T083000
DTEND;TZID=America/Toronto:20231104T103000
DTSTAMP:20260419T181236
CREATED:20220130T203655Z
LAST-MODIFIED:20220130T204029Z
UID:10000236-1699086600-1699093800@holyrosary.ca
SUMMARY:First Saturday Devotions
DESCRIPTION:Join us in honouring The Virgin Mary's request for First Saturday Devotion to Her Immaculate Heart. \nRosary at 8:30 am with Veneration of relics of St. Jacinta & Francisco Marto \nMass at 9:00 am \nAdoration with Fatima Prayers: 9:30 to 10:00 am \nLivestream available on by clicking below or directly on Youtube.
URL:https://holyrosary.ca/event/first-saturday-devotions/2023-11-04/
LOCATION:Holy Rosary Parish\, 354 St Clair Avenue West\, Toronto\, Ontario\, M5P 1N4\, Canada
CATEGORIES:First Saturday Devotions
END:VEVENT
BEGIN:VEVENT
DTSTART;TZID=America/Toronto:20231007T083000
DTEND;TZID=America/Toronto:20231007T103000
DTSTAMP:20260419T181236
CREATED:20220130T203655Z
LAST-MODIFIED:20220130T204029Z
UID:10000235-1696667400-1696674600@holyrosary.ca
SUMMARY:First Saturday Devotions
DESCRIPTION:Join us in honouring The Virgin Mary's request for First Saturday Devotion to Her Immaculate Heart. \nRosary at 8:30 am with Veneration of relics of St. Jacinta & Francisco Marto \nMass at 9:00 am \nAdoration with Fatima Prayers: 9:30 to 10:00 am \nLivestream available on by clicking below or directly on Youtube.
URL:https://holyrosary.ca/event/first-saturday-devotions/2023-10-07/
LOCATION:Holy Rosary Parish\, 354 St Clair Avenue West\, Toronto\, Ontario\, M5P 1N4\, Canada
CATEGORIES:First Saturday Devotions
END:VEVENT
BEGIN:VEVENT
DTSTART;TZID=America/Toronto:20230902T083000
DTEND;TZID=America/Toronto:20230902T103000
DTSTAMP:20260419T181236
CREATED:20220130T203655Z
LAST-MODIFIED:20220130T204029Z
UID:10000234-1693643400-1693650600@holyrosary.ca
SUMMARY:First Saturday Devotions
DESCRIPTION:Join us in honouring The Virgin Mary's request for First Saturday Devotion to Her Immaculate Heart. \nRosary at 8:30 am with Veneration of relics of St. Jacinta & Francisco Marto \nMass at 9:00 am \nAdoration with Fatima Prayers: 9:30 to 10:00 am \nLivestream available on by clicking below or directly on Youtube.
URL:https://holyrosary.ca/event/first-saturday-devotions/2023-09-02/
LOCATION:Holy Rosary Parish\, 354 St Clair Avenue West\, Toronto\, Ontario\, M5P 1N4\, Canada
CATEGORIES:First Saturday Devotions
END:VEVENT
BEGIN:VEVENT
DTSTART;TZID=America/Toronto:20230805T083000
DTEND;TZID=America/Toronto:20230805T103000
DTSTAMP:20260419T181236
CREATED:20220130T203655Z
LAST-MODIFIED:20220130T204029Z
UID:10000233-1691224200-1691231400@holyrosary.ca
SUMMARY:First Saturday Devotions
DESCRIPTION:Join us in honouring The Virgin Mary's request for First Saturday Devotion to Her Immaculate Heart. \nRosary at 8:30 am with Veneration of relics of St. Jacinta & Francisco Marto \nMass at 9:00 am \nAdoration with Fatima Prayers: 9:30 to 10:00 am \nLivestream available on by clicking below or directly on Youtube.
URL:https://holyrosary.ca/event/first-saturday-devotions/2023-08-05/
LOCATION:Holy Rosary Parish\, 354 St Clair Avenue West\, Toronto\, Ontario\, M5P 1N4\, Canada
CATEGORIES:First Saturday Devotions
END:VEVENT
BEGIN:VEVENT
DTSTART;TZID=America/Toronto:20230701T083000
DTEND;TZID=America/Toronto:20230701T103000
DTSTAMP:20260419T181236
CREATED:20220130T203655Z
LAST-MODIFIED:20220130T204029Z
UID:10000232-1688200200-1688207400@holyrosary.ca
SUMMARY:First Saturday Devotions
DESCRIPTION:Join us in honouring The Virgin Mary's request for First Saturday Devotion to Her Immaculate Heart. \nRosary at 8:30 am with Veneration of relics of St. Jacinta & Francisco Marto \nMass at 9:00 am \nAdoration with Fatima Prayers: 9:30 to 10:00 am \nLivestream available on by clicking below or directly on Youtube.
URL:https://holyrosary.ca/event/first-saturday-devotions/2023-07-01/
LOCATION:Holy Rosary Parish\, 354 St Clair Avenue West\, Toronto\, Ontario\, M5P 1N4\, Canada
CATEGORIES:First Saturday Devotions
END:VEVENT
BEGIN:VEVENT
DTSTART;TZID=America/Toronto:20230603T083000
DTEND;TZID=America/Toronto:20230603T103000
DTSTAMP:20260419T181236
CREATED:20220130T203655Z
LAST-MODIFIED:20220130T204029Z
UID:10000231-1685781000-1685788200@holyrosary.ca
SUMMARY:First Saturday Devotions
DESCRIPTION:Join us in honouring The Virgin Mary's request for First Saturday Devotion to Her Immaculate Heart. \nRosary at 8:30 am with Veneration of relics of St. Jacinta & Francisco Marto \nMass at 9:00 am \nAdoration with Fatima Prayers: 9:30 to 10:00 am \nLivestream available on by clicking below or directly on Youtube.
URL:https://holyrosary.ca/event/first-saturday-devotions/2023-06-03/
LOCATION:Holy Rosary Parish\, 354 St Clair Avenue West\, Toronto\, Ontario\, M5P 1N4\, Canada
CATEGORIES:First Saturday Devotions
END:VEVENT
BEGIN:VEVENT
DTSTART;TZID=America/Toronto:20230506T083000
DTEND;TZID=America/Toronto:20230506T103000
DTSTAMP:20260419T181236
CREATED:20220130T203655Z
LAST-MODIFIED:20220130T204029Z
UID:10000230-1683361800-1683369000@holyrosary.ca
SUMMARY:First Saturday Devotions
DESCRIPTION:Join us in honouring The Virgin Mary's request for First Saturday Devotion to Her Immaculate Heart. \nRosary at 8:30 am with Veneration of relics of St. Jacinta & Francisco Marto \nMass at 9:00 am \nAdoration with Fatima Prayers: 9:30 to 10:00 am \nLivestream available on by clicking below or directly on Youtube.
URL:https://holyrosary.ca/event/first-saturday-devotions/2023-05-06/
LOCATION:Holy Rosary Parish\, 354 St Clair Avenue West\, Toronto\, Ontario\, M5P 1N4\, Canada
CATEGORIES:First Saturday Devotions
END:VEVENT
BEGIN:VEVENT
DTSTART;TZID=America/Toronto:20230401T083000
DTEND;TZID=America/Toronto:20230401T103000
DTSTAMP:20260419T181236
CREATED:20220130T203655Z
LAST-MODIFIED:20220130T204029Z
UID:10000229-1680337800-1680345000@holyrosary.ca
SUMMARY:First Saturday Devotions
DESCRIPTION:Join us in honouring The Virgin Mary's request for First Saturday Devotion to Her Immaculate Heart. \nRosary at 8:30 am with Veneration of relics of St. Jacinta & Francisco Marto \nMass at 9:00 am \nAdoration with Fatima Prayers: 9:30 to 10:00 am \nLivestream available on by clicking below or directly on Youtube.
URL:https://holyrosary.ca/event/first-saturday-devotions/2023-04-01/
LOCATION:Holy Rosary Parish\, 354 St Clair Avenue West\, Toronto\, Ontario\, M5P 1N4\, Canada
CATEGORIES:First Saturday Devotions
END:VEVENT
BEGIN:VEVENT
DTSTART;TZID=America/Toronto:20230304T083000
DTEND;TZID=America/Toronto:20230304T103000
DTSTAMP:20260419T181236
CREATED:20220130T203655Z
LAST-MODIFIED:20220130T204029Z
UID:10000228-1677918600-1677925800@holyrosary.ca
SUMMARY:First Saturday Devotions
DESCRIPTION:Join us in honouring The Virgin Mary's request for First Saturday Devotion to Her Immaculate Heart. \nRosary at 8:30 am with Veneration of relics of St. Jacinta & Francisco Marto \nMass at 9:00 am \nAdoration with Fatima Prayers: 9:30 to 10:00 am \nLivestream available on by clicking below or directly on Youtube.
URL:https://holyrosary.ca/event/first-saturday-devotions/2023-03-04/
LOCATION:Holy Rosary Parish\, 354 St Clair Avenue West\, Toronto\, Ontario\, M5P 1N4\, Canada
CATEGORIES:First Saturday Devotions
END:VEVENT
BEGIN:VEVENT
DTSTART;TZID=America/Toronto:20230204T083000
DTEND;TZID=America/Toronto:20230204T103000
DTSTAMP:20260419T181236
CREATED:20220130T203655Z
LAST-MODIFIED:20220130T204029Z
UID:10000227-1675499400-1675506600@holyrosary.ca
SUMMARY:First Saturday Devotions
DESCRIPTION:Join us in honouring The Virgin Mary's request for First Saturday Devotion to Her Immaculate Heart. \nRosary at 8:30 am with Veneration of relics of St. Jacinta & Francisco Marto \nMass at 9:00 am \nAdoration with Fatima Prayers: 9:30 to 10:00 am \nLivestream available on by clicking below or directly on Youtube.
URL:https://holyrosary.ca/event/first-saturday-devotions/2023-02-04/
LOCATION:Holy Rosary Parish\, 354 St Clair Avenue West\, Toronto\, Ontario\, M5P 1N4\, Canada
CATEGORIES:First Saturday Devotions
END:VEVENT
BEGIN:VEVENT
DTSTART;TZID=America/Toronto:20230107T083000
DTEND;TZID=America/Toronto:20230107T103000
DTSTAMP:20260419T181236
CREATED:20220130T203655Z
LAST-MODIFIED:20220130T204029Z
UID:10000226-1673080200-1673087400@holyrosary.ca
SUMMARY:First Saturday Devotions
DESCRIPTION:Join us in honouring The Virgin Mary's request for First Saturday Devotion to Her Immaculate Heart. \nRosary at 8:30 am with Veneration of relics of St. Jacinta & Francisco Marto \nMass at 9:00 am \nAdoration with Fatima Prayers: 9:30 to 10:00 am \nLivestream available on by clicking below or directly on Youtube.
URL:https://holyrosary.ca/event/first-saturday-devotions/2023-01-07/
LOCATION:Holy Rosary Parish\, 354 St Clair Avenue West\, Toronto\, Ontario\, M5P 1N4\, Canada
CATEGORIES:First Saturday Devotions
END:VEVENT
BEGIN:VEVENT
DTSTART;TZID=America/Toronto:20221203T083000
DTEND;TZID=America/Toronto:20221203T103000
DTSTAMP:20260419T181236
CREATED:20220130T203655Z
LAST-MODIFIED:20220130T204029Z
UID:10000225-1670056200-1670063400@holyrosary.ca
SUMMARY:First Saturday Devotions
DESCRIPTION:Join us in honouring The Virgin Mary's request for First Saturday Devotion to Her Immaculate Heart. \nRosary at 8:30 am with Veneration of relics of St. Jacinta & Francisco Marto \nMass at 9:00 am \nAdoration with Fatima Prayers: 9:30 to 10:00 am \nLivestream available on by clicking below or directly on Youtube.
URL:https://holyrosary.ca/event/first-saturday-devotions/2022-12-03/
LOCATION:Holy Rosary Parish\, 354 St Clair Avenue West\, Toronto\, Ontario\, M5P 1N4\, Canada
CATEGORIES:First Saturday Devotions
END:VEVENT
BEGIN:VEVENT
DTSTART;TZID=America/Toronto:20221105T083000
DTEND;TZID=America/Toronto:20221105T103000
DTSTAMP:20260419T181236
CREATED:20220130T203655Z
LAST-MODIFIED:20220130T204029Z
UID:10000224-1667637000-1667644200@holyrosary.ca
SUMMARY:First Saturday Devotions
DESCRIPTION:Join us in honouring The Virgin Mary's request for First Saturday Devotion to Her Immaculate Heart. \nRosary at 8:30 am with Veneration of relics of St. Jacinta & Francisco Marto \nMass at 9:00 am \nAdoration with Fatima Prayers: 9:30 to 10:00 am \nLivestream available on by clicking below or directly on Youtube.
URL:https://holyrosary.ca/event/first-saturday-devotions/2022-11-05/
LOCATION:Holy Rosary Parish\, 354 St Clair Avenue West\, Toronto\, Ontario\, M5P 1N4\, Canada
CATEGORIES:First Saturday Devotions
END:VEVENT
BEGIN:VEVENT
DTSTART;TZID=America/Toronto:20221001T083000
DTEND;TZID=America/Toronto:20221001T103000
DTSTAMP:20260419T181236
CREATED:20220130T203655Z
LAST-MODIFIED:20220130T204029Z
UID:10000223-1664613000-1664620200@holyrosary.ca
SUMMARY:First Saturday Devotions
DESCRIPTION:Join us in honouring The Virgin Mary's request for First Saturday Devotion to Her Immaculate Heart. \nRosary at 8:30 am with Veneration of relics of St. Jacinta & Francisco Marto \nMass at 9:00 am \nAdoration with Fatima Prayers: 9:30 to 10:00 am \nLivestream available on by clicking below or directly on Youtube.
URL:https://holyrosary.ca/event/first-saturday-devotions/2022-10-01/
LOCATION:Holy Rosary Parish\, 354 St Clair Avenue West\, Toronto\, Ontario\, M5P 1N4\, Canada
CATEGORIES:First Saturday Devotions
END:VEVENT
BEGIN:VEVENT
DTSTART;TZID=America/Toronto:20220903T083000
DTEND;TZID=America/Toronto:20220903T103000
DTSTAMP:20260419T181236
CREATED:20220130T203655Z
LAST-MODIFIED:20220130T204029Z
UID:10000222-1662193800-1662201000@holyrosary.ca
SUMMARY:First Saturday Devotions
DESCRIPTION:Join us in honouring The Virgin Mary's request for First Saturday Devotion to Her Immaculate Heart. \nRosary at 8:30 am with Veneration of relics of St. Jacinta & Francisco Marto \nMass at 9:00 am \nAdoration with Fatima Prayers: 9:30 to 10:00 am \nLivestream available on by clicking below or directly on Youtube.
URL:https://holyrosary.ca/event/first-saturday-devotions/2022-09-03/
LOCATION:Holy Rosary Parish\, 354 St Clair Avenue West\, Toronto\, Ontario\, M5P 1N4\, Canada
CATEGORIES:First Saturday Devotions
END:VEVENT
BEGIN:VEVENT
DTSTART;TZID=America/Toronto:20220806T083000
DTEND;TZID=America/Toronto:20220806T103000
DTSTAMP:20260419T181236
CREATED:20220130T203655Z
LAST-MODIFIED:20220130T204029Z
UID:10000221-1659774600-1659781800@holyrosary.ca
SUMMARY:First Saturday Devotions
DESCRIPTION:Join us in honouring The Virgin Mary's request for First Saturday Devotion to Her Immaculate Heart. \nRosary at 8:30 am with Veneration of relics of St. Jacinta & Francisco Marto \nMass at 9:00 am \nAdoration with Fatima Prayers: 9:30 to 10:00 am \nLivestream available on by clicking below or directly on Youtube.
URL:https://holyrosary.ca/event/first-saturday-devotions/2022-08-06/
LOCATION:Holy Rosary Parish\, 354 St Clair Avenue West\, Toronto\, Ontario\, M5P 1N4\, Canada
CATEGORIES:First Saturday Devotions
END:VEVENT
BEGIN:VEVENT
DTSTART;TZID=America/Toronto:20220702T083000
DTEND;TZID=America/Toronto:20220702T103000
DTSTAMP:20260419T181236
CREATED:20220130T203655Z
LAST-MODIFIED:20220130T204029Z
UID:10000220-1656750600-1656757800@holyrosary.ca
SUMMARY:First Saturday Devotions
DESCRIPTION:Join us in honouring The Virgin Mary's request for First Saturday Devotion to Her Immaculate Heart. \nRosary at 8:30 am with Veneration of relics of St. Jacinta & Francisco Marto \nMass at 9:00 am \nAdoration with Fatima Prayers: 9:30 to 10:00 am \nLivestream available on by clicking below or directly on Youtube.
URL:https://holyrosary.ca/event/first-saturday-devotions/2022-07-02/
LOCATION:Holy Rosary Parish\, 354 St Clair Avenue West\, Toronto\, Ontario\, M5P 1N4\, Canada
CATEGORIES:First Saturday Devotions
END:VEVENT
BEGIN:VEVENT
DTSTART;TZID=America/Toronto:20220604T083000
DTEND;TZID=America/Toronto:20220604T103000
DTSTAMP:20260419T181236
CREATED:20220130T203655Z
LAST-MODIFIED:20220130T204029Z
UID:10000219-1654331400-1654338600@holyrosary.ca
SUMMARY:First Saturday Devotions
DESCRIPTION:Join us in honouring The Virgin Mary's request for First Saturday Devotion to Her Immaculate Heart. \nRosary at 8:30 am with Veneration of relics of St. Jacinta & Francisco Marto \nMass at 9:00 am \nAdoration with Fatima Prayers: 9:30 to 10:00 am \nLivestream available on by clicking below or directly on Youtube.
URL:https://holyrosary.ca/event/first-saturday-devotions/2022-06-04/
LOCATION:Holy Rosary Parish\, 354 St Clair Avenue West\, Toronto\, Ontario\, M5P 1N4\, Canada
CATEGORIES:First Saturday Devotions
END:VEVENT
BEGIN:VEVENT
DTSTART;TZID=America/Toronto:20220507T083000
DTEND;TZID=America/Toronto:20220507T103000
DTSTAMP:20260419T181236
CREATED:20220130T203655Z
LAST-MODIFIED:20220130T204029Z
UID:10000218-1651912200-1651919400@holyrosary.ca
SUMMARY:First Saturday Devotions
DESCRIPTION:Join us in honouring The Virgin Mary's request for First Saturday Devotion to Her Immaculate Heart. \nRosary at 8:30 am with Veneration of relics of St. Jacinta & Francisco Marto \nMass at 9:00 am \nAdoration with Fatima Prayers: 9:30 to 10:00 am \nLivestream available on by clicking below or directly on Youtube.
URL:https://holyrosary.ca/event/first-saturday-devotions/2022-05-07/
LOCATION:Holy Rosary Parish\, 354 St Clair Avenue West\, Toronto\, Ontario\, M5P 1N4\, Canada
CATEGORIES:First Saturday Devotions
END:VEVENT
BEGIN:VEVENT
DTSTART;TZID=America/Toronto:20220402T083000
DTEND;TZID=America/Toronto:20220402T103000
DTSTAMP:20260419T181236
CREATED:20220130T203655Z
LAST-MODIFIED:20220130T204029Z
UID:10000217-1648888200-1648895400@holyrosary.ca
SUMMARY:First Saturday Devotions
DESCRIPTION:Join us in honouring The Virgin Mary's request for First Saturday Devotion to Her Immaculate Heart. \nRosary at 8:30 am with Veneration of relics of St. Jacinta & Francisco Marto \nMass at 9:00 am \nAdoration with Fatima Prayers: 9:30 to 10:00 am \nLivestream available on by clicking below or directly on Youtube.
URL:https://holyrosary.ca/event/first-saturday-devotions/2022-04-02/
LOCATION:Holy Rosary Parish\, 354 St Clair Avenue West\, Toronto\, Ontario\, M5P 1N4\, Canada
CATEGORIES:First Saturday Devotions
END:VEVENT
BEGIN:VEVENT
DTSTART;TZID=America/Toronto:20220305T083000
DTEND;TZID=America/Toronto:20220305T103000
DTSTAMP:20260419T181236
CREATED:20220130T203655Z
LAST-MODIFIED:20220130T204029Z
UID:10000216-1646469000-1646476200@holyrosary.ca
SUMMARY:First Saturday Devotions
DESCRIPTION:Join us in honouring The Virgin Mary's request for First Saturday Devotion to Her Immaculate Heart. \nRosary at 8:30 am with Veneration of relics of St. Jacinta & Francisco Marto \nMass at 9:00 am \nAdoration with Fatima Prayers: 9:30 to 10:00 am \nLivestream available on by clicking below or directly on Youtube.
URL:https://holyrosary.ca/event/first-saturday-devotions/2022-03-05/
LOCATION:Holy Rosary Parish\, 354 St Clair Avenue West\, Toronto\, Ontario\, M5P 1N4\, Canada
CATEGORIES:First Saturday Devotions
END:VEVENT
END:VCALENDAR