BEGIN:VCALENDAR
VERSION:2.0
PRODID:-//Holy Rosary Parish - ECPv6.15.20//NONSGML v1.0//EN
CALSCALE:GREGORIAN
METHOD:PUBLISH
X-WR-CALNAME:Holy Rosary Parish
X-ORIGINAL-URL:https://holyrosary.ca
X-WR-CALDESC:Events for Holy Rosary Parish
REFRESH-INTERVAL;VALUE=DURATION:PT1H
X-Robots-Tag:noindex
X-PUBLISHED-TTL:PT1H
BEGIN:VTIMEZONE
TZID:America/Toronto
BEGIN:DAYLIGHT
TZOFFSETFROM:-0500
TZOFFSETTO:-0400
TZNAME:EDT
DTSTART:20190310T070000
END:DAYLIGHT
BEGIN:STANDARD
TZOFFSETFROM:-0400
TZOFFSETTO:-0500
TZNAME:EST
DTSTART:20191103T060000
END:STANDARD
BEGIN:DAYLIGHT
TZOFFSETFROM:-0500
TZOFFSETTO:-0400
TZNAME:EDT
DTSTART:20200308T070000
END:DAYLIGHT
BEGIN:STANDARD
TZOFFSETFROM:-0400
TZOFFSETTO:-0500
TZNAME:EST
DTSTART:20201101T060000
END:STANDARD
BEGIN:DAYLIGHT
TZOFFSETFROM:-0500
TZOFFSETTO:-0400
TZNAME:EDT
DTSTART:20210314T070000
END:DAYLIGHT
BEGIN:STANDARD
TZOFFSETFROM:-0400
TZOFFSETTO:-0500
TZNAME:EST
DTSTART:20211107T060000
END:STANDARD
END:VTIMEZONE
BEGIN:VEVENT
DTSTART;TZID=America/Toronto:20200305T130000
DTEND;TZID=America/Toronto:20200305T150000
DTSTAMP:20260424T123833
CREATED:20200121T232418Z
LAST-MODIFIED:20200211T002000Z
UID:10000192-1583413200-1583420400@holyrosary.ca
SUMMARY:Lectio Divina Bible Study
DESCRIPTION:
URL:https://holyrosary.ca/event/lectio-divina-bible-study/2020-03-05/
LOCATION:Holy Rosary Parish Hall\, 356 St. Clair Ave. West\, Toronto\, Ontario\, M5P 1N4\, Canada
END:VEVENT
END:VCALENDAR