BEGIN:VCALENDAR
VERSION:2.0
PRODID:-//Holy Rosary Parish - ECPv6.15.20//NONSGML v1.0//EN
CALSCALE:GREGORIAN
METHOD:PUBLISH
X-WR-CALNAME:Holy Rosary Parish
X-ORIGINAL-URL:https://holyrosary.ca
X-WR-CALDESC:Events for Holy Rosary Parish
REFRESH-INTERVAL;VALUE=DURATION:PT1H
X-Robots-Tag:noindex
X-PUBLISHED-TTL:PT1H
BEGIN:VTIMEZONE
TZID:America/Toronto
BEGIN:DAYLIGHT
TZOFFSETFROM:-0500
TZOFFSETTO:-0400
TZNAME:EDT
DTSTART:20250309T070000
END:DAYLIGHT
BEGIN:STANDARD
TZOFFSETFROM:-0400
TZOFFSETTO:-0500
TZNAME:EST
DTSTART:20251102T060000
END:STANDARD
BEGIN:DAYLIGHT
TZOFFSETFROM:-0500
TZOFFSETTO:-0400
TZNAME:EDT
DTSTART:20260308T070000
END:DAYLIGHT
BEGIN:STANDARD
TZOFFSETFROM:-0400
TZOFFSETTO:-0500
TZNAME:EST
DTSTART:20261101T060000
END:STANDARD
BEGIN:DAYLIGHT
TZOFFSETFROM:-0500
TZOFFSETTO:-0400
TZNAME:EDT
DTSTART:20270314T070000
END:DAYLIGHT
BEGIN:STANDARD
TZOFFSETFROM:-0400
TZOFFSETTO:-0500
TZNAME:EST
DTSTART:20271107T060000
END:STANDARD
END:VTIMEZONE
BEGIN:VEVENT
DTSTART;VALUE=DATE:20260530
DTEND;VALUE=DATE:20260531
DTSTAMP:20260420T210313
CREATED:20260420T145012Z
LAST-MODIFIED:20260420T145012Z
UID:2608-1780099200-1780185599@holyrosary.ca
SUMMARY:Day with Mary
DESCRIPTION:Mark your calendars: The Archdiocese of Toronto invites you to A Day With Mary on Saturday\, May 30\, 2026 at Villanova College in King City. \nThis family-friendly day will include Holy Mass with His Eminence Frank Cardinal Leo\, the Rosary\, confessions\, a keynote address and children’s catechesis. Enjoy music\, fellowship and more! \nWe are renting a bus from Holy Rosary to the event. $30 with lunch\, $20 without lunch. Purchase tickets in the Parish Office.
URL:https://holyrosary.ca/event/day-with-mary/
LOCATION:Holy Rosary Parish\, 354 St Clair Avenue West\, Toronto\, Ontario\, M5P 1N4\, Canada
END:VEVENT
END:VCALENDAR